BEGIN:VCALENDAR
VERSION:2.0
PRODID:-//Aquarium of Niagara - ECPv6.10.2//NONSGML v1.0//EN
CALSCALE:GREGORIAN
METHOD:PUBLISH
X-ORIGINAL-URL:https://aquariumofniagara.org
X-WR-CALDESC:Events for Aquarium of Niagara
REFRESH-INTERVAL;VALUE=DURATION:PT1H
X-Robots-Tag:noindex
X-PUBLISHED-TTL:PT1H
BEGIN:VTIMEZONE
TZID:America/New_York
BEGIN:DAYLIGHT
TZOFFSETFROM:-0500
TZOFFSETTO:-0400
TZNAME:EDT
DTSTART:20260308T070000
END:DAYLIGHT
BEGIN:STANDARD
TZOFFSETFROM:-0400
TZOFFSETTO:-0500
TZNAME:EST
DTSTART:20261101T060000
END:STANDARD
END:VTIMEZONE
BEGIN:VEVENT
DTSTART;TZID=America/New_York:20261213T100000
DTEND;TZID=America/New_York:20261213T101500
DTSTAMP:20260425T170724
CREATED:20251219T214103Z
LAST-MODIFIED:20260129T122759Z
UID:10075421-1797156000-1797156900@aquariumofniagara.org
SUMMARY:penguin presentation
DESCRIPTION:
URL:https://aquariumofniagara.org/event/penguin-presentation-2-3/2026-12-13/
LOCATION:Aquarium of Niagara: Main Building\, 701 Whirlpool St\, Niagara Falls\, NY\, 14301\, United States
CATEGORIES:Public Presentations
END:VEVENT
BEGIN:VEVENT
DTSTART;TZID=America/New_York:20261213T110000
DTEND;TZID=America/New_York:20261213T111500
DTSTAMP:20260425T170724
CREATED:20251219T190021Z
LAST-MODIFIED:20260129T124140Z
UID:10082721-1797159600-1797160500@aquariumofniagara.org
SUMMARY:sea lion presentation
DESCRIPTION:
URL:https://aquariumofniagara.org/event/sea-lion-presentation-2-2-2-2-2/2026-12-13/
LOCATION:Aquarium of Niagara: Main Building\, 701 Whirlpool St\, Niagara Falls\, NY\, 14301\, United States
CATEGORIES:Public Presentations
END:VEVENT
BEGIN:VEVENT
DTSTART;TZID=America/New_York:20261213T120000
DTEND;TZID=America/New_York:20261213T121500
DTSTAMP:20260425T170724
CREATED:20251219T215613Z
LAST-MODIFIED:20260403T162557Z
UID:10080896-1797163200-1797164100@aquariumofniagara.org
SUMMARY:sea turtle presentation
DESCRIPTION:
URL:https://aquariumofniagara.org/event/sea-turtle-presentation-2-2/2026-12-13/
LOCATION:Aquarium of Niagara: Main Building\, 701 Whirlpool St\, Niagara Falls\, NY\, 14301\, United States
CATEGORIES:Public Presentations
END:VEVENT
BEGIN:VEVENT
DTSTART;TZID=America/New_York:20261213T130000
DTEND;TZID=America/New_York:20261213T131500
DTSTAMP:20260425T170724
CREATED:20251219T185917Z
LAST-MODIFIED:20260210T172556Z
UID:10087938-1797166800-1797167700@aquariumofniagara.org
SUMMARY:sea lion presentation
DESCRIPTION:
URL:https://aquariumofniagara.org/event/sea-lion-presentation-3-2/2026-12-13/
LOCATION:Aquarium of Niagara: Main Building\, 701 Whirlpool St\, Niagara Falls\, NY\, 14301\, United States
CATEGORIES:Public Presentations
END:VEVENT
BEGIN:VEVENT
DTSTART;TZID=America/New_York:20261213T133000
DTEND;TZID=America/New_York:20261213T134500
DTSTAMP:20260425T170724
CREATED:20251219T185200Z
LAST-MODIFIED:20260210T172350Z
UID:10079071-1797168600-1797169500@aquariumofniagara.org
SUMMARY:featured feeding
DESCRIPTION:
URL:https://aquariumofniagara.org/event/featured-feeding-2-2-2/2026-12-13/
LOCATION:Aquarium of Niagara: Main Building\, 701 Whirlpool St\, Niagara Falls\, NY\, 14301\, United States
CATEGORIES:Public Presentations
END:VEVENT
BEGIN:VEVENT
DTSTART;TZID=America/New_York:20261213T140000
DTEND;TZID=America/New_York:20261213T141500
DTSTAMP:20260425T170724
CREATED:20251219T215422Z
LAST-MODIFIED:20260125T230252Z
UID:10073596-1797170400-1797171300@aquariumofniagara.org
SUMMARY:penguin presentation
DESCRIPTION:
URL:https://aquariumofniagara.org/event/penguin-presentation-2-2-2/2026-12-13/
LOCATION:Aquarium of Niagara: Main Building\, 701 Whirlpool St\, Niagara Falls\, NY\, 14301\, United States
CATEGORIES:Public Presentations
END:VEVENT
BEGIN:VEVENT
DTSTART;TZID=America/New_York:20261213T150000
DTEND;TZID=America/New_York:20261213T151500
DTSTAMP:20260425T170724
CREATED:20251103T223629Z
LAST-MODIFIED:20260124T172912Z
UID:10077246-1797174000-1797174900@aquariumofniagara.org
SUMMARY:featured feeding
DESCRIPTION:
URL:https://aquariumofniagara.org/event/featured-feeding-3-2/2026-12-13/
LOCATION:Aquarium of Niagara: Main Building\, 701 Whirlpool St\, Niagara Falls\, NY\, 14301\, United States
CATEGORIES:Public Presentations
END:VEVENT
BEGIN:VEVENT
DTSTART;TZID=America/New_York:20261213T153000
DTEND;TZID=America/New_York:20261213T153000
DTSTAMP:20260425T170724
CREATED:20260331T133729Z
LAST-MODIFIED:20260331T133730Z
UID:10086308-1797175800-1797175800@aquariumofniagara.org
SUMMARY:sea lion presentation
DESCRIPTION:
URL:https://aquariumofniagara.org/event/sea-lion-presentation-2-2-2-3-2/2026-12-13/
LOCATION:Aquarium of Niagara: Main Building\, 701 Whirlpool St\, Niagara Falls\, NY\, 14301\, United States
CATEGORIES:Public Presentations
END:VEVENT
BEGIN:VEVENT
DTSTART;TZID=America/New_York:20261214T100000
DTEND;TZID=America/New_York:20261214T101500
DTSTAMP:20260425T170724
CREATED:20251219T214103Z
LAST-MODIFIED:20260129T122759Z
UID:10075422-1797242400-1797243300@aquariumofniagara.org
SUMMARY:penguin presentation
DESCRIPTION:
URL:https://aquariumofniagara.org/event/penguin-presentation-2-3/2026-12-14/
LOCATION:Aquarium of Niagara: Main Building\, 701 Whirlpool St\, Niagara Falls\, NY\, 14301\, United States
CATEGORIES:Public Presentations
END:VEVENT
BEGIN:VEVENT
DTSTART;TZID=America/New_York:20261214T110000
DTEND;TZID=America/New_York:20261214T111500
DTSTAMP:20260425T170724
CREATED:20251219T190021Z
LAST-MODIFIED:20260129T124140Z
UID:10082722-1797246000-1797246900@aquariumofniagara.org
SUMMARY:sea lion presentation
DESCRIPTION:
URL:https://aquariumofniagara.org/event/sea-lion-presentation-2-2-2-2-2/2026-12-14/
LOCATION:Aquarium of Niagara: Main Building\, 701 Whirlpool St\, Niagara Falls\, NY\, 14301\, United States
CATEGORIES:Public Presentations
END:VEVENT
BEGIN:VEVENT
DTSTART;TZID=America/New_York:20261214T120000
DTEND;TZID=America/New_York:20261214T121500
DTSTAMP:20260425T170724
CREATED:20251219T215613Z
LAST-MODIFIED:20260403T162557Z
UID:10080897-1797249600-1797250500@aquariumofniagara.org
SUMMARY:sea turtle presentation
DESCRIPTION:
URL:https://aquariumofniagara.org/event/sea-turtle-presentation-2-2/2026-12-14/
LOCATION:Aquarium of Niagara: Main Building\, 701 Whirlpool St\, Niagara Falls\, NY\, 14301\, United States
CATEGORIES:Public Presentations
END:VEVENT
BEGIN:VEVENT
DTSTART;TZID=America/New_York:20261214T130000
DTEND;TZID=America/New_York:20261214T131500
DTSTAMP:20260425T170724
CREATED:20251219T185917Z
LAST-MODIFIED:20260210T172556Z
UID:10087939-1797253200-1797254100@aquariumofniagara.org
SUMMARY:sea lion presentation
DESCRIPTION:
URL:https://aquariumofniagara.org/event/sea-lion-presentation-3-2/2026-12-14/
LOCATION:Aquarium of Niagara: Main Building\, 701 Whirlpool St\, Niagara Falls\, NY\, 14301\, United States
CATEGORIES:Public Presentations
END:VEVENT
BEGIN:VEVENT
DTSTART;TZID=America/New_York:20261214T133000
DTEND;TZID=America/New_York:20261214T134500
DTSTAMP:20260425T170724
CREATED:20251219T185200Z
LAST-MODIFIED:20260210T172350Z
UID:10079072-1797255000-1797255900@aquariumofniagara.org
SUMMARY:featured feeding
DESCRIPTION:
URL:https://aquariumofniagara.org/event/featured-feeding-2-2-2/2026-12-14/
LOCATION:Aquarium of Niagara: Main Building\, 701 Whirlpool St\, Niagara Falls\, NY\, 14301\, United States
CATEGORIES:Public Presentations
END:VEVENT
BEGIN:VEVENT
DTSTART;TZID=America/New_York:20261214T140000
DTEND;TZID=America/New_York:20261214T141500
DTSTAMP:20260425T170724
CREATED:20251219T215422Z
LAST-MODIFIED:20260125T230252Z
UID:10073597-1797256800-1797257700@aquariumofniagara.org
SUMMARY:penguin presentation
DESCRIPTION:
URL:https://aquariumofniagara.org/event/penguin-presentation-2-2-2/2026-12-14/
LOCATION:Aquarium of Niagara: Main Building\, 701 Whirlpool St\, Niagara Falls\, NY\, 14301\, United States
CATEGORIES:Public Presentations
END:VEVENT
BEGIN:VEVENT
DTSTART;TZID=America/New_York:20261214T153000
DTEND;TZID=America/New_York:20261214T153000
DTSTAMP:20260425T170724
CREATED:20260331T133729Z
LAST-MODIFIED:20260331T133730Z
UID:10090751-1797262200-1797262200@aquariumofniagara.org
SUMMARY:sea lion presentation
DESCRIPTION:
URL:https://aquariumofniagara.org/event/sea-lion-presentation-2-2-2-3-2/2026-12-14/
LOCATION:Aquarium of Niagara: Main Building\, 701 Whirlpool St\, Niagara Falls\, NY\, 14301\, United States
CATEGORIES:Public Presentations
END:VEVENT
BEGIN:VEVENT
DTSTART;TZID=America/New_York:20261215T100000
DTEND;TZID=America/New_York:20261215T101500
DTSTAMP:20260425T170724
CREATED:20251219T214103Z
LAST-MODIFIED:20260129T122759Z
UID:10075423-1797328800-1797329700@aquariumofniagara.org
SUMMARY:penguin presentation
DESCRIPTION:
URL:https://aquariumofniagara.org/event/penguin-presentation-2-3/2026-12-15/
LOCATION:Aquarium of Niagara: Main Building\, 701 Whirlpool St\, Niagara Falls\, NY\, 14301\, United States
CATEGORIES:Public Presentations
END:VEVENT
BEGIN:VEVENT
DTSTART;TZID=America/New_York:20261215T110000
DTEND;TZID=America/New_York:20261215T111500
DTSTAMP:20260425T170724
CREATED:20251219T190021Z
LAST-MODIFIED:20260129T124140Z
UID:10082723-1797332400-1797333300@aquariumofniagara.org
SUMMARY:sea lion presentation
DESCRIPTION:
URL:https://aquariumofniagara.org/event/sea-lion-presentation-2-2-2-2-2/2026-12-15/
LOCATION:Aquarium of Niagara: Main Building\, 701 Whirlpool St\, Niagara Falls\, NY\, 14301\, United States
CATEGORIES:Public Presentations
END:VEVENT
BEGIN:VEVENT
DTSTART;TZID=America/New_York:20261215T120000
DTEND;TZID=America/New_York:20261215T121500
DTSTAMP:20260425T170724
CREATED:20251219T215613Z
LAST-MODIFIED:20260403T162557Z
UID:10080898-1797336000-1797336900@aquariumofniagara.org
SUMMARY:sea turtle presentation
DESCRIPTION:
URL:https://aquariumofniagara.org/event/sea-turtle-presentation-2-2/2026-12-15/
LOCATION:Aquarium of Niagara: Main Building\, 701 Whirlpool St\, Niagara Falls\, NY\, 14301\, United States
CATEGORIES:Public Presentations
END:VEVENT
BEGIN:VEVENT
DTSTART;TZID=America/New_York:20261215T130000
DTEND;TZID=America/New_York:20261215T131500
DTSTAMP:20260425T170724
CREATED:20251219T185917Z
LAST-MODIFIED:20260210T172556Z
UID:10087940-1797339600-1797340500@aquariumofniagara.org
SUMMARY:sea lion presentation
DESCRIPTION:
URL:https://aquariumofniagara.org/event/sea-lion-presentation-3-2/2026-12-15/
LOCATION:Aquarium of Niagara: Main Building\, 701 Whirlpool St\, Niagara Falls\, NY\, 14301\, United States
CATEGORIES:Public Presentations
END:VEVENT
BEGIN:VEVENT
DTSTART;TZID=America/New_York:20261215T133000
DTEND;TZID=America/New_York:20261215T134500
DTSTAMP:20260425T170724
CREATED:20251219T185200Z
LAST-MODIFIED:20260210T172350Z
UID:10079073-1797341400-1797342300@aquariumofniagara.org
SUMMARY:featured feeding
DESCRIPTION:
URL:https://aquariumofniagara.org/event/featured-feeding-2-2-2/2026-12-15/
LOCATION:Aquarium of Niagara: Main Building\, 701 Whirlpool St\, Niagara Falls\, NY\, 14301\, United States
CATEGORIES:Public Presentations
END:VEVENT
BEGIN:VEVENT
DTSTART;TZID=America/New_York:20261215T140000
DTEND;TZID=America/New_York:20261215T141500
DTSTAMP:20260425T170724
CREATED:20251219T215422Z
LAST-MODIFIED:20260125T230252Z
UID:10073598-1797343200-1797344100@aquariumofniagara.org
SUMMARY:penguin presentation
DESCRIPTION:
URL:https://aquariumofniagara.org/event/penguin-presentation-2-2-2/2026-12-15/
LOCATION:Aquarium of Niagara: Main Building\, 701 Whirlpool St\, Niagara Falls\, NY\, 14301\, United States
CATEGORIES:Public Presentations
END:VEVENT
BEGIN:VEVENT
DTSTART;TZID=America/New_York:20261215T150000
DTEND;TZID=America/New_York:20261215T151500
DTSTAMP:20260425T170724
CREATED:20251103T223629Z
LAST-MODIFIED:20260124T172912Z
UID:10077248-1797346800-1797347700@aquariumofniagara.org
SUMMARY:featured feeding
DESCRIPTION:
URL:https://aquariumofniagara.org/event/featured-feeding-3-2/2026-12-15/
LOCATION:Aquarium of Niagara: Main Building\, 701 Whirlpool St\, Niagara Falls\, NY\, 14301\, United States
CATEGORIES:Public Presentations
END:VEVENT
BEGIN:VEVENT
DTSTART;TZID=America/New_York:20261215T153000
DTEND;TZID=America/New_York:20261215T153000
DTSTAMP:20260425T170724
CREATED:20260331T133729Z
LAST-MODIFIED:20260331T133730Z
UID:10090752-1797348600-1797348600@aquariumofniagara.org
SUMMARY:sea lion presentation
DESCRIPTION:
URL:https://aquariumofniagara.org/event/sea-lion-presentation-2-2-2-3-2/2026-12-15/
LOCATION:Aquarium of Niagara: Main Building\, 701 Whirlpool St\, Niagara Falls\, NY\, 14301\, United States
CATEGORIES:Public Presentations
END:VEVENT
BEGIN:VEVENT
DTSTART;TZID=America/New_York:20261216T100000
DTEND;TZID=America/New_York:20261216T101500
DTSTAMP:20260425T170724
CREATED:20251219T214103Z
LAST-MODIFIED:20260129T122759Z
UID:10075424-1797415200-1797416100@aquariumofniagara.org
SUMMARY:penguin presentation
DESCRIPTION:
URL:https://aquariumofniagara.org/event/penguin-presentation-2-3/2026-12-16/
LOCATION:Aquarium of Niagara: Main Building\, 701 Whirlpool St\, Niagara Falls\, NY\, 14301\, United States
CATEGORIES:Public Presentations
END:VEVENT
BEGIN:VEVENT
DTSTART;TZID=America/New_York:20261216T110000
DTEND;TZID=America/New_York:20261216T111500
DTSTAMP:20260425T170724
CREATED:20251219T190021Z
LAST-MODIFIED:20260129T124140Z
UID:10082724-1797418800-1797419700@aquariumofniagara.org
SUMMARY:sea lion presentation
DESCRIPTION:
URL:https://aquariumofniagara.org/event/sea-lion-presentation-2-2-2-2-2/2026-12-16/
LOCATION:Aquarium of Niagara: Main Building\, 701 Whirlpool St\, Niagara Falls\, NY\, 14301\, United States
CATEGORIES:Public Presentations
END:VEVENT
BEGIN:VEVENT
DTSTART;TZID=America/New_York:20261216T120000
DTEND;TZID=America/New_York:20261216T121500
DTSTAMP:20260425T170724
CREATED:20251219T215613Z
LAST-MODIFIED:20260403T162557Z
UID:10080899-1797422400-1797423300@aquariumofniagara.org
SUMMARY:sea turtle presentation
DESCRIPTION:
URL:https://aquariumofniagara.org/event/sea-turtle-presentation-2-2/2026-12-16/
LOCATION:Aquarium of Niagara: Main Building\, 701 Whirlpool St\, Niagara Falls\, NY\, 14301\, United States
CATEGORIES:Public Presentations
END:VEVENT
BEGIN:VEVENT
DTSTART;TZID=America/New_York:20261216T130000
DTEND;TZID=America/New_York:20261216T131500
DTSTAMP:20260425T170724
CREATED:20251219T185917Z
LAST-MODIFIED:20260210T172556Z
UID:10087941-1797426000-1797426900@aquariumofniagara.org
SUMMARY:sea lion presentation
DESCRIPTION:
URL:https://aquariumofniagara.org/event/sea-lion-presentation-3-2/2026-12-16/
LOCATION:Aquarium of Niagara: Main Building\, 701 Whirlpool St\, Niagara Falls\, NY\, 14301\, United States
CATEGORIES:Public Presentations
END:VEVENT
BEGIN:VEVENT
DTSTART;TZID=America/New_York:20261216T133000
DTEND;TZID=America/New_York:20261216T134500
DTSTAMP:20260425T170724
CREATED:20251219T185200Z
LAST-MODIFIED:20260210T172350Z
UID:10079074-1797427800-1797428700@aquariumofniagara.org
SUMMARY:featured feeding
DESCRIPTION:
URL:https://aquariumofniagara.org/event/featured-feeding-2-2-2/2026-12-16/
LOCATION:Aquarium of Niagara: Main Building\, 701 Whirlpool St\, Niagara Falls\, NY\, 14301\, United States
CATEGORIES:Public Presentations
END:VEVENT
BEGIN:VEVENT
DTSTART;TZID=America/New_York:20261216T140000
DTEND;TZID=America/New_York:20261216T141500
DTSTAMP:20260425T170724
CREATED:20251219T215422Z
LAST-MODIFIED:20260125T230252Z
UID:10073599-1797429600-1797430500@aquariumofniagara.org
SUMMARY:penguin presentation
DESCRIPTION:
URL:https://aquariumofniagara.org/event/penguin-presentation-2-2-2/2026-12-16/
LOCATION:Aquarium of Niagara: Main Building\, 701 Whirlpool St\, Niagara Falls\, NY\, 14301\, United States
CATEGORIES:Public Presentations
END:VEVENT
BEGIN:VEVENT
DTSTART;TZID=America/New_York:20261216T153000
DTEND;TZID=America/New_York:20261216T153000
DTSTAMP:20260425T170724
CREATED:20260331T133729Z
LAST-MODIFIED:20260331T133730Z
UID:10090632-1797435000-1797435000@aquariumofniagara.org
SUMMARY:sea lion presentation
DESCRIPTION:
URL:https://aquariumofniagara.org/event/sea-lion-presentation-2-2-2-3-2/2026-12-16/
LOCATION:Aquarium of Niagara: Main Building\, 701 Whirlpool St\, Niagara Falls\, NY\, 14301\, United States
CATEGORIES:Public Presentations
END:VEVENT
END:VCALENDAR