BEGIN:VCALENDAR
VERSION:2.0
PRODID:-//Aquarium of Niagara - ECPv6.10.2//NONSGML v1.0//EN
CALSCALE:GREGORIAN
METHOD:PUBLISH
X-WR-CALNAME:Aquarium of Niagara
X-ORIGINAL-URL:https://aquariumofniagara.org
X-WR-CALDESC:Events for Aquarium of Niagara
REFRESH-INTERVAL;VALUE=DURATION:PT1H
X-Robots-Tag:noindex
X-PUBLISHED-TTL:PT1H
BEGIN:VTIMEZONE
TZID:America/New_York
BEGIN:DAYLIGHT
TZOFFSETFROM:-0500
TZOFFSETTO:-0400
TZNAME:EDT
DTSTART:20260308T070000
END:DAYLIGHT
BEGIN:STANDARD
TZOFFSETFROM:-0400
TZOFFSETTO:-0500
TZNAME:EST
DTSTART:20261101T060000
END:STANDARD
END:VTIMEZONE
BEGIN:VEVENT
DTSTART;TZID=America/New_York:20261208T150000
DTEND;TZID=America/New_York:20261208T151500
DTSTAMP:20260425T072546
CREATED:20251103T223629Z
LAST-MODIFIED:20260124T172912Z
UID:10077241-1796742000-1796742900@aquariumofniagara.org
SUMMARY:featured feeding
DESCRIPTION:
URL:https://aquariumofniagara.org/event/featured-feeding-3-2/2026-12-08/
LOCATION:Aquarium of Niagara: Main Building\, 701 Whirlpool St\, Niagara Falls\, NY\, 14301\, United States
CATEGORIES:Public Presentations
END:VEVENT
BEGIN:VEVENT
DTSTART;TZID=America/New_York:20261208T153000
DTEND;TZID=America/New_York:20261208T153000
DTSTAMP:20260425T072546
CREATED:20260331T133729Z
LAST-MODIFIED:20260331T133730Z
UID:10090749-1796743800-1796743800@aquariumofniagara.org
SUMMARY:sea lion presentation
DESCRIPTION:
URL:https://aquariumofniagara.org/event/sea-lion-presentation-2-2-2-3-2/2026-12-08/
LOCATION:Aquarium of Niagara: Main Building\, 701 Whirlpool St\, Niagara Falls\, NY\, 14301\, United States
CATEGORIES:Public Presentations
END:VEVENT
BEGIN:VEVENT
DTSTART;TZID=America/New_York:20261209T100000
DTEND;TZID=America/New_York:20261209T101500
DTSTAMP:20260425T072546
CREATED:20251219T214103Z
LAST-MODIFIED:20260129T122759Z
UID:10075417-1796810400-1796811300@aquariumofniagara.org
SUMMARY:penguin presentation
DESCRIPTION:
URL:https://aquariumofniagara.org/event/penguin-presentation-2-3/2026-12-09/
LOCATION:Aquarium of Niagara: Main Building\, 701 Whirlpool St\, Niagara Falls\, NY\, 14301\, United States
CATEGORIES:Public Presentations
END:VEVENT
BEGIN:VEVENT
DTSTART;TZID=America/New_York:20261209T110000
DTEND;TZID=America/New_York:20261209T111500
DTSTAMP:20260425T072546
CREATED:20251219T190021Z
LAST-MODIFIED:20260129T124140Z
UID:10082717-1796814000-1796814900@aquariumofniagara.org
SUMMARY:sea lion presentation
DESCRIPTION:
URL:https://aquariumofniagara.org/event/sea-lion-presentation-2-2-2-2-2/2026-12-09/
LOCATION:Aquarium of Niagara: Main Building\, 701 Whirlpool St\, Niagara Falls\, NY\, 14301\, United States
CATEGORIES:Public Presentations
END:VEVENT
BEGIN:VEVENT
DTSTART;TZID=America/New_York:20261209T120000
DTEND;TZID=America/New_York:20261209T121500
DTSTAMP:20260425T072546
CREATED:20251219T215613Z
LAST-MODIFIED:20260403T162557Z
UID:10080892-1796817600-1796818500@aquariumofniagara.org
SUMMARY:sea turtle presentation
DESCRIPTION:
URL:https://aquariumofniagara.org/event/sea-turtle-presentation-2-2/2026-12-09/
LOCATION:Aquarium of Niagara: Main Building\, 701 Whirlpool St\, Niagara Falls\, NY\, 14301\, United States
CATEGORIES:Public Presentations
END:VEVENT
BEGIN:VEVENT
DTSTART;TZID=America/New_York:20261209T130000
DTEND;TZID=America/New_York:20261209T131500
DTSTAMP:20260425T072546
CREATED:20251219T185917Z
LAST-MODIFIED:20260210T172556Z
UID:10087934-1796821200-1796822100@aquariumofniagara.org
SUMMARY:sea lion presentation
DESCRIPTION:
URL:https://aquariumofniagara.org/event/sea-lion-presentation-3-2/2026-12-09/
LOCATION:Aquarium of Niagara: Main Building\, 701 Whirlpool St\, Niagara Falls\, NY\, 14301\, United States
CATEGORIES:Public Presentations
END:VEVENT
BEGIN:VEVENT
DTSTART;TZID=America/New_York:20261209T133000
DTEND;TZID=America/New_York:20261209T134500
DTSTAMP:20260425T072546
CREATED:20251219T185200Z
LAST-MODIFIED:20260210T172350Z
UID:10079067-1796823000-1796823900@aquariumofniagara.org
SUMMARY:featured feeding
DESCRIPTION:
URL:https://aquariumofniagara.org/event/featured-feeding-2-2-2/2026-12-09/
LOCATION:Aquarium of Niagara: Main Building\, 701 Whirlpool St\, Niagara Falls\, NY\, 14301\, United States
CATEGORIES:Public Presentations
END:VEVENT
BEGIN:VEVENT
DTSTART;TZID=America/New_York:20261209T140000
DTEND;TZID=America/New_York:20261209T141500
DTSTAMP:20260425T072546
CREATED:20251219T215422Z
LAST-MODIFIED:20260125T230252Z
UID:10073592-1796824800-1796825700@aquariumofniagara.org
SUMMARY:penguin presentation
DESCRIPTION:
URL:https://aquariumofniagara.org/event/penguin-presentation-2-2-2/2026-12-09/
LOCATION:Aquarium of Niagara: Main Building\, 701 Whirlpool St\, Niagara Falls\, NY\, 14301\, United States
CATEGORIES:Public Presentations
END:VEVENT
BEGIN:VEVENT
DTSTART;TZID=America/New_York:20261209T153000
DTEND;TZID=America/New_York:20261209T153000
DTSTAMP:20260425T072546
CREATED:20260331T133729Z
LAST-MODIFIED:20260331T133730Z
UID:10090631-1796830200-1796830200@aquariumofniagara.org
SUMMARY:sea lion presentation
DESCRIPTION:
URL:https://aquariumofniagara.org/event/sea-lion-presentation-2-2-2-3-2/2026-12-09/
LOCATION:Aquarium of Niagara: Main Building\, 701 Whirlpool St\, Niagara Falls\, NY\, 14301\, United States
CATEGORIES:Public Presentations
END:VEVENT
BEGIN:VEVENT
DTSTART;TZID=America/New_York:20261210T100000
DTEND;TZID=America/New_York:20261210T101500
DTSTAMP:20260425T072546
CREATED:20251219T214103Z
LAST-MODIFIED:20260129T122759Z
UID:10075418-1796896800-1796897700@aquariumofniagara.org
SUMMARY:penguin presentation
DESCRIPTION:
URL:https://aquariumofniagara.org/event/penguin-presentation-2-3/2026-12-10/
LOCATION:Aquarium of Niagara: Main Building\, 701 Whirlpool St\, Niagara Falls\, NY\, 14301\, United States
CATEGORIES:Public Presentations
END:VEVENT
BEGIN:VEVENT
DTSTART;TZID=America/New_York:20261210T110000
DTEND;TZID=America/New_York:20261210T111500
DTSTAMP:20260425T072546
CREATED:20251219T190021Z
LAST-MODIFIED:20260129T124140Z
UID:10082718-1796900400-1796901300@aquariumofniagara.org
SUMMARY:sea lion presentation
DESCRIPTION:
URL:https://aquariumofniagara.org/event/sea-lion-presentation-2-2-2-2-2/2026-12-10/
LOCATION:Aquarium of Niagara: Main Building\, 701 Whirlpool St\, Niagara Falls\, NY\, 14301\, United States
CATEGORIES:Public Presentations
END:VEVENT
BEGIN:VEVENT
DTSTART;TZID=America/New_York:20261210T120000
DTEND;TZID=America/New_York:20261210T121500
DTSTAMP:20260425T072547
CREATED:20251219T215613Z
LAST-MODIFIED:20260403T162557Z
UID:10080893-1796904000-1796904900@aquariumofniagara.org
SUMMARY:sea turtle presentation
DESCRIPTION:
URL:https://aquariumofniagara.org/event/sea-turtle-presentation-2-2/2026-12-10/
LOCATION:Aquarium of Niagara: Main Building\, 701 Whirlpool St\, Niagara Falls\, NY\, 14301\, United States
CATEGORIES:Public Presentations
END:VEVENT
BEGIN:VEVENT
DTSTART;TZID=America/New_York:20261210T130000
DTEND;TZID=America/New_York:20261210T131500
DTSTAMP:20260425T072547
CREATED:20251219T185917Z
LAST-MODIFIED:20260210T172556Z
UID:10087935-1796907600-1796908500@aquariumofniagara.org
SUMMARY:sea lion presentation
DESCRIPTION:
URL:https://aquariumofniagara.org/event/sea-lion-presentation-3-2/2026-12-10/
LOCATION:Aquarium of Niagara: Main Building\, 701 Whirlpool St\, Niagara Falls\, NY\, 14301\, United States
CATEGORIES:Public Presentations
END:VEVENT
BEGIN:VEVENT
DTSTART;TZID=America/New_York:20261210T133000
DTEND;TZID=America/New_York:20261210T134500
DTSTAMP:20260425T072547
CREATED:20251219T185200Z
LAST-MODIFIED:20260210T172350Z
UID:10079068-1796909400-1796910300@aquariumofniagara.org
SUMMARY:featured feeding
DESCRIPTION:
URL:https://aquariumofniagara.org/event/featured-feeding-2-2-2/2026-12-10/
LOCATION:Aquarium of Niagara: Main Building\, 701 Whirlpool St\, Niagara Falls\, NY\, 14301\, United States
CATEGORIES:Public Presentations
END:VEVENT
BEGIN:VEVENT
DTSTART;TZID=America/New_York:20261210T140000
DTEND;TZID=America/New_York:20261210T141500
DTSTAMP:20260425T072547
CREATED:20251219T215422Z
LAST-MODIFIED:20260125T230252Z
UID:10073593-1796911200-1796912100@aquariumofniagara.org
SUMMARY:penguin presentation
DESCRIPTION:
URL:https://aquariumofniagara.org/event/penguin-presentation-2-2-2/2026-12-10/
LOCATION:Aquarium of Niagara: Main Building\, 701 Whirlpool St\, Niagara Falls\, NY\, 14301\, United States
CATEGORIES:Public Presentations
END:VEVENT
BEGIN:VEVENT
DTSTART;TZID=America/New_York:20261210T153000
DTEND;TZID=America/New_York:20261210T153000
DTSTAMP:20260425T072547
CREATED:20260331T133729Z
LAST-MODIFIED:20260331T133730Z
UID:10090750-1796916600-1796916600@aquariumofniagara.org
SUMMARY:sea lion presentation
DESCRIPTION:
URL:https://aquariumofniagara.org/event/sea-lion-presentation-2-2-2-3-2/2026-12-10/
LOCATION:Aquarium of Niagara: Main Building\, 701 Whirlpool St\, Niagara Falls\, NY\, 14301\, United States
CATEGORIES:Public Presentations
END:VEVENT
BEGIN:VEVENT
DTSTART;TZID=America/New_York:20261211T100000
DTEND;TZID=America/New_York:20261211T101500
DTSTAMP:20260425T072547
CREATED:20251219T214103Z
LAST-MODIFIED:20260129T122759Z
UID:10075419-1796983200-1796984100@aquariumofniagara.org
SUMMARY:penguin presentation
DESCRIPTION:
URL:https://aquariumofniagara.org/event/penguin-presentation-2-3/2026-12-11/
LOCATION:Aquarium of Niagara: Main Building\, 701 Whirlpool St\, Niagara Falls\, NY\, 14301\, United States
CATEGORIES:Public Presentations
END:VEVENT
BEGIN:VEVENT
DTSTART;TZID=America/New_York:20261211T110000
DTEND;TZID=America/New_York:20261211T111500
DTSTAMP:20260425T072547
CREATED:20251219T190021Z
LAST-MODIFIED:20260129T124140Z
UID:10082719-1796986800-1796987700@aquariumofniagara.org
SUMMARY:sea lion presentation
DESCRIPTION:
URL:https://aquariumofniagara.org/event/sea-lion-presentation-2-2-2-2-2/2026-12-11/
LOCATION:Aquarium of Niagara: Main Building\, 701 Whirlpool St\, Niagara Falls\, NY\, 14301\, United States
CATEGORIES:Public Presentations
END:VEVENT
BEGIN:VEVENT
DTSTART;TZID=America/New_York:20261211T120000
DTEND;TZID=America/New_York:20261211T121500
DTSTAMP:20260425T072547
CREATED:20251219T215613Z
LAST-MODIFIED:20260403T162557Z
UID:10080894-1796990400-1796991300@aquariumofniagara.org
SUMMARY:sea turtle presentation
DESCRIPTION:
URL:https://aquariumofniagara.org/event/sea-turtle-presentation-2-2/2026-12-11/
LOCATION:Aquarium of Niagara: Main Building\, 701 Whirlpool St\, Niagara Falls\, NY\, 14301\, United States
CATEGORIES:Public Presentations
END:VEVENT
BEGIN:VEVENT
DTSTART;TZID=America/New_York:20261211T130000
DTEND;TZID=America/New_York:20261211T131500
DTSTAMP:20260425T072547
CREATED:20251219T185917Z
LAST-MODIFIED:20260210T172556Z
UID:10087936-1796994000-1796994900@aquariumofniagara.org
SUMMARY:sea lion presentation
DESCRIPTION:
URL:https://aquariumofniagara.org/event/sea-lion-presentation-3-2/2026-12-11/
LOCATION:Aquarium of Niagara: Main Building\, 701 Whirlpool St\, Niagara Falls\, NY\, 14301\, United States
CATEGORIES:Public Presentations
END:VEVENT
BEGIN:VEVENT
DTSTART;TZID=America/New_York:20261211T133000
DTEND;TZID=America/New_York:20261211T134500
DTSTAMP:20260425T072547
CREATED:20251219T185200Z
LAST-MODIFIED:20260210T172350Z
UID:10079069-1796995800-1796996700@aquariumofniagara.org
SUMMARY:featured feeding
DESCRIPTION:
URL:https://aquariumofniagara.org/event/featured-feeding-2-2-2/2026-12-11/
LOCATION:Aquarium of Niagara: Main Building\, 701 Whirlpool St\, Niagara Falls\, NY\, 14301\, United States
CATEGORIES:Public Presentations
END:VEVENT
BEGIN:VEVENT
DTSTART;TZID=America/New_York:20261211T140000
DTEND;TZID=America/New_York:20261211T141500
DTSTAMP:20260425T072547
CREATED:20251219T215422Z
LAST-MODIFIED:20260125T230252Z
UID:10073594-1796997600-1796998500@aquariumofniagara.org
SUMMARY:penguin presentation
DESCRIPTION:
URL:https://aquariumofniagara.org/event/penguin-presentation-2-2-2/2026-12-11/
LOCATION:Aquarium of Niagara: Main Building\, 701 Whirlpool St\, Niagara Falls\, NY\, 14301\, United States
CATEGORIES:Public Presentations
END:VEVENT
BEGIN:VEVENT
DTSTART;TZID=America/New_York:20261211T150000
DTEND;TZID=America/New_York:20261211T151500
DTSTAMP:20260425T072547
CREATED:20251103T223629Z
LAST-MODIFIED:20260124T172912Z
UID:10077244-1797001200-1797002100@aquariumofniagara.org
SUMMARY:featured feeding
DESCRIPTION:
URL:https://aquariumofniagara.org/event/featured-feeding-3-2/2026-12-11/
LOCATION:Aquarium of Niagara: Main Building\, 701 Whirlpool St\, Niagara Falls\, NY\, 14301\, United States
CATEGORIES:Public Presentations
END:VEVENT
BEGIN:VEVENT
DTSTART;TZID=America/New_York:20261211T153000
DTEND;TZID=America/New_York:20261211T153000
DTSTAMP:20260425T072547
CREATED:20260331T133729Z
LAST-MODIFIED:20260331T133730Z
UID:10086306-1797003000-1797003000@aquariumofniagara.org
SUMMARY:sea lion presentation
DESCRIPTION:
URL:https://aquariumofniagara.org/event/sea-lion-presentation-2-2-2-3-2/2026-12-11/
LOCATION:Aquarium of Niagara: Main Building\, 701 Whirlpool St\, Niagara Falls\, NY\, 14301\, United States
CATEGORIES:Public Presentations
END:VEVENT
BEGIN:VEVENT
DTSTART;TZID=America/New_York:20261212T100000
DTEND;TZID=America/New_York:20261212T101500
DTSTAMP:20260425T072547
CREATED:20251219T214103Z
LAST-MODIFIED:20260129T122759Z
UID:10075420-1797069600-1797070500@aquariumofniagara.org
SUMMARY:penguin presentation
DESCRIPTION:
URL:https://aquariumofniagara.org/event/penguin-presentation-2-3/2026-12-12/
LOCATION:Aquarium of Niagara: Main Building\, 701 Whirlpool St\, Niagara Falls\, NY\, 14301\, United States
CATEGORIES:Public Presentations
END:VEVENT
BEGIN:VEVENT
DTSTART;TZID=America/New_York:20261212T110000
DTEND;TZID=America/New_York:20261212T111500
DTSTAMP:20260425T072547
CREATED:20251219T190021Z
LAST-MODIFIED:20260129T124140Z
UID:10082720-1797073200-1797074100@aquariumofniagara.org
SUMMARY:sea lion presentation
DESCRIPTION:
URL:https://aquariumofniagara.org/event/sea-lion-presentation-2-2-2-2-2/2026-12-12/
LOCATION:Aquarium of Niagara: Main Building\, 701 Whirlpool St\, Niagara Falls\, NY\, 14301\, United States
CATEGORIES:Public Presentations
END:VEVENT
BEGIN:VEVENT
DTSTART;TZID=America/New_York:20261212T120000
DTEND;TZID=America/New_York:20261212T121500
DTSTAMP:20260425T072547
CREATED:20251219T215613Z
LAST-MODIFIED:20260403T162557Z
UID:10080895-1797076800-1797077700@aquariumofniagara.org
SUMMARY:sea turtle presentation
DESCRIPTION:
URL:https://aquariumofniagara.org/event/sea-turtle-presentation-2-2/2026-12-12/
LOCATION:Aquarium of Niagara: Main Building\, 701 Whirlpool St\, Niagara Falls\, NY\, 14301\, United States
CATEGORIES:Public Presentations
END:VEVENT
BEGIN:VEVENT
DTSTART;TZID=America/New_York:20261212T130000
DTEND;TZID=America/New_York:20261212T131500
DTSTAMP:20260425T072547
CREATED:20251219T185917Z
LAST-MODIFIED:20260210T172556Z
UID:10087937-1797080400-1797081300@aquariumofniagara.org
SUMMARY:sea lion presentation
DESCRIPTION:
URL:https://aquariumofniagara.org/event/sea-lion-presentation-3-2/2026-12-12/
LOCATION:Aquarium of Niagara: Main Building\, 701 Whirlpool St\, Niagara Falls\, NY\, 14301\, United States
CATEGORIES:Public Presentations
END:VEVENT
BEGIN:VEVENT
DTSTART;TZID=America/New_York:20261212T133000
DTEND;TZID=America/New_York:20261212T134500
DTSTAMP:20260425T072547
CREATED:20251219T185200Z
LAST-MODIFIED:20260210T172350Z
UID:10079070-1797082200-1797083100@aquariumofniagara.org
SUMMARY:featured feeding
DESCRIPTION:
URL:https://aquariumofniagara.org/event/featured-feeding-2-2-2/2026-12-12/
LOCATION:Aquarium of Niagara: Main Building\, 701 Whirlpool St\, Niagara Falls\, NY\, 14301\, United States
CATEGORIES:Public Presentations
END:VEVENT
BEGIN:VEVENT
DTSTART;TZID=America/New_York:20261212T140000
DTEND;TZID=America/New_York:20261212T141500
DTSTAMP:20260425T072547
CREATED:20251219T215422Z
LAST-MODIFIED:20260125T230252Z
UID:10073595-1797084000-1797084900@aquariumofniagara.org
SUMMARY:penguin presentation
DESCRIPTION:
URL:https://aquariumofniagara.org/event/penguin-presentation-2-2-2/2026-12-12/
LOCATION:Aquarium of Niagara: Main Building\, 701 Whirlpool St\, Niagara Falls\, NY\, 14301\, United States
CATEGORIES:Public Presentations
END:VEVENT
END:VCALENDAR