BEGIN:VCALENDAR
VERSION:2.0
PRODID:-//Aquarium of Niagara - ECPv6.10.2//NONSGML v1.0//EN
CALSCALE:GREGORIAN
METHOD:PUBLISH
X-WR-CALNAME:Aquarium of Niagara
X-ORIGINAL-URL:https://aquariumofniagara.org
X-WR-CALDESC:Events for Aquarium of Niagara
REFRESH-INTERVAL;VALUE=DURATION:PT1H
X-Robots-Tag:noindex
X-PUBLISHED-TTL:PT1H
BEGIN:VTIMEZONE
TZID:America/New_York
BEGIN:DAYLIGHT
TZOFFSETFROM:-0500
TZOFFSETTO:-0400
TZNAME:EDT
DTSTART:20250309T070000
END:DAYLIGHT
BEGIN:STANDARD
TZOFFSETFROM:-0400
TZOFFSETTO:-0500
TZNAME:EST
DTSTART:20251102T060000
END:STANDARD
END:VTIMEZONE
BEGIN:VEVENT
DTSTART;TZID=America/New_York:20250608T133000
DTEND;TZID=America/New_York:20250608T134500
DTSTAMP:20260425T123442
CREATED:20250603T152902Z
LAST-MODIFIED:20250603T152932Z
UID:10073108-1749389400-1749390300@aquariumofniagara.org
SUMMARY:island princess song & story time
DESCRIPTION:
URL:https://aquariumofniagara.org/event/island-princess-song-story-time-2/2025-06-08/
LOCATION:Aquarium of Niagara: Main Building\, 701 Whirlpool St\, Niagara Falls\, NY\, 14301\, United States
CATEGORIES:Public Presentations
END:VEVENT
BEGIN:VEVENT
DTSTART;TZID=America/New_York:20250608T120000
DTEND;TZID=America/New_York:20250608T121500
DTSTAMP:20260425T123442
CREATED:20250603T152701Z
LAST-MODIFIED:20250603T153141Z
UID:10073102-1749384000-1749384900@aquariumofniagara.org
SUMMARY:scuba dive demonstration
DESCRIPTION:
URL:https://aquariumofniagara.org/event/scuba-dive-demonstration/2025-06-08/
LOCATION:Aquarium of Niagara: Main Building\, 701 Whirlpool St\, Niagara Falls\, NY\, 14301\, United States
CATEGORIES:Public Presentations
END:VEVENT
BEGIN:VEVENT
DTSTART;TZID=America/New_York:20250608T113000
DTEND;TZID=America/New_York:20250608T114500
DTSTAMP:20260425T123442
CREATED:20250603T152818Z
LAST-MODIFIED:20250603T152818Z
UID:10073104-1749382200-1749383100@aquariumofniagara.org
SUMMARY:island princess song & story time
DESCRIPTION:
URL:https://aquariumofniagara.org/event/island-princess-song-story-time/2025-06-08/
LOCATION:Aquarium of Niagara: Main Building\, 701 Whirlpool St\, Niagara Falls\, NY\, 14301\, United States
CATEGORIES:Public Presentations
END:VEVENT
BEGIN:VEVENT
DTSTART;TZID=America/New_York:20250607T133000
DTEND;TZID=America/New_York:20250607T134500
DTSTAMP:20260425T123442
CREATED:20250603T152902Z
LAST-MODIFIED:20250603T152932Z
UID:10073107-1749303000-1749303900@aquariumofniagara.org
SUMMARY:island princess song & story time
DESCRIPTION:
URL:https://aquariumofniagara.org/event/island-princess-song-story-time-2/2025-06-07/
LOCATION:Aquarium of Niagara: Main Building\, 701 Whirlpool St\, Niagara Falls\, NY\, 14301\, United States
CATEGORIES:Public Presentations
END:VEVENT
BEGIN:VEVENT
DTSTART;TZID=America/New_York:20250607T120000
DTEND;TZID=America/New_York:20250607T121500
DTSTAMP:20260425T123442
CREATED:20250603T152701Z
LAST-MODIFIED:20250603T153141Z
UID:10073101-1749297600-1749298500@aquariumofniagara.org
SUMMARY:scuba dive demonstration
DESCRIPTION:
URL:https://aquariumofniagara.org/event/scuba-dive-demonstration/2025-06-07/
LOCATION:Aquarium of Niagara: Main Building\, 701 Whirlpool St\, Niagara Falls\, NY\, 14301\, United States
CATEGORIES:Public Presentations
END:VEVENT
BEGIN:VEVENT
DTSTART;TZID=America/New_York:20250607T113000
DTEND;TZID=America/New_York:20250607T114500
DTSTAMP:20260425T123442
CREATED:20250603T152818Z
LAST-MODIFIED:20250603T152818Z
UID:10073103-1749295800-1749296700@aquariumofniagara.org
SUMMARY:island princess song & story time
DESCRIPTION:
URL:https://aquariumofniagara.org/event/island-princess-song-story-time/2025-06-07/
LOCATION:Aquarium of Niagara: Main Building\, 701 Whirlpool St\, Niagara Falls\, NY\, 14301\, United States
CATEGORIES:Public Presentations
END:VEVENT
BEGIN:VEVENT
DTSTART;TZID=America/New_York:20250524T113000
DTEND;TZID=America/New_York:20250524T114500
DTSTAMP:20260425T123442
CREATED:20250418T164310Z
LAST-MODIFIED:20250602T150811Z
UID:10055970-1748086200-1748087100@aquariumofniagara.org
SUMMARY:seal presentation
DESCRIPTION:
URL:https://aquariumofniagara.org/event/seal-presentation-3-2-2/2025-05-24/
LOCATION:Aquarium of Niagara: Main Building\, 701 Whirlpool St\, Niagara Falls\, NY\, 14301\, United States
CATEGORIES:Public Presentations
END:VEVENT
BEGIN:VEVENT
DTSTART;TZID=America/New_York:20250419T120000
DTEND;TZID=America/New_York:20250419T121500
DTSTAMP:20260425T123442
CREATED:20250418T170333Z
LAST-MODIFIED:20250418T170801Z
UID:10072456-1745064000-1745064900@aquariumofniagara.org
SUMMARY:egg-ducation
DESCRIPTION:Join us at the Aquarium of Niagara as we explore the unique eggs laid by our many residents! From oddly shaped penguin eggs to mermaid purses laid by sharks\, we’ll talk about the adaptations different animals and eggs have to deliver a new generation of these eggtastic animals!
URL:https://aquariumofniagara.org/event/egg-ducation/
LOCATION:Aquarium of Niagara: Main Building\, 701 Whirlpool St\, Niagara Falls\, NY\, 14301\, United States
END:VEVENT
BEGIN:VEVENT
DTSTART;TZID=America/New_York:20250417T143000
DTEND;TZID=America/New_York:20250417T144500
DTSTAMP:20260425T123442
CREATED:20240522T211022Z
LAST-MODIFIED:20250121T020358Z
UID:10040175-1744900200-1744901100@aquariumofniagara.org
SUMMARY:seal presentation
DESCRIPTION:
URL:https://aquariumofniagara.org/event/seal-presentation-2/2025-04-17/
LOCATION:Aquarium of Niagara: Main Building\, 701 Whirlpool St\, Niagara Falls\, NY\, 14301\, United States
CATEGORIES:Public Presentations
END:VEVENT
BEGIN:VEVENT
DTSTART;TZID=America/New_York:20250416T143000
DTEND;TZID=America/New_York:20250416T144500
DTSTAMP:20260425T123442
CREATED:20240522T211022Z
LAST-MODIFIED:20250121T020358Z
UID:10040174-1744813800-1744814700@aquariumofniagara.org
SUMMARY:seal presentation
DESCRIPTION:
URL:https://aquariumofniagara.org/event/seal-presentation-2/2025-04-16/
LOCATION:Aquarium of Niagara: Main Building\, 701 Whirlpool St\, Niagara Falls\, NY\, 14301\, United States
CATEGORIES:Public Presentations
END:VEVENT
BEGIN:VEVENT
DTSTART;TZID=America/New_York:20250415T143000
DTEND;TZID=America/New_York:20250415T144500
DTSTAMP:20260425T123442
CREATED:20240522T211022Z
LAST-MODIFIED:20250121T020358Z
UID:10040173-1744727400-1744728300@aquariumofniagara.org
SUMMARY:seal presentation
DESCRIPTION:
URL:https://aquariumofniagara.org/event/seal-presentation-2/2025-04-15/
LOCATION:Aquarium of Niagara: Main Building\, 701 Whirlpool St\, Niagara Falls\, NY\, 14301\, United States
CATEGORIES:Public Presentations
END:VEVENT
BEGIN:VEVENT
DTSTART;TZID=America/New_York:20250414T143000
DTEND;TZID=America/New_York:20250414T144500
DTSTAMP:20260425T123442
CREATED:20240522T211022Z
LAST-MODIFIED:20250121T020358Z
UID:10040172-1744641000-1744641900@aquariumofniagara.org
SUMMARY:seal presentation
DESCRIPTION:
URL:https://aquariumofniagara.org/event/seal-presentation-2/2025-04-14/
LOCATION:Aquarium of Niagara: Main Building\, 701 Whirlpool St\, Niagara Falls\, NY\, 14301\, United States
CATEGORIES:Public Presentations
END:VEVENT
BEGIN:VEVENT
DTSTART;TZID=America/New_York:20250413T143000
DTEND;TZID=America/New_York:20250413T144500
DTSTAMP:20260425T123442
CREATED:20240522T211022Z
LAST-MODIFIED:20250121T020358Z
UID:10040171-1744554600-1744555500@aquariumofniagara.org
SUMMARY:seal presentation
DESCRIPTION:
URL:https://aquariumofniagara.org/event/seal-presentation-2/2025-04-13/
LOCATION:Aquarium of Niagara: Main Building\, 701 Whirlpool St\, Niagara Falls\, NY\, 14301\, United States
CATEGORIES:Public Presentations
END:VEVENT
BEGIN:VEVENT
DTSTART;TZID=America/New_York:20250412T143000
DTEND;TZID=America/New_York:20250412T144500
DTSTAMP:20260425T123442
CREATED:20240522T211022Z
LAST-MODIFIED:20250121T020358Z
UID:10040170-1744468200-1744469100@aquariumofniagara.org
SUMMARY:seal presentation
DESCRIPTION:
URL:https://aquariumofniagara.org/event/seal-presentation-2/2025-04-12/
LOCATION:Aquarium of Niagara: Main Building\, 701 Whirlpool St\, Niagara Falls\, NY\, 14301\, United States
CATEGORIES:Public Presentations
END:VEVENT
BEGIN:VEVENT
DTSTART;TZID=America/New_York:20250411T143000
DTEND;TZID=America/New_York:20250411T144500
DTSTAMP:20260425T123442
CREATED:20240522T211022Z
LAST-MODIFIED:20250121T020358Z
UID:10040169-1744381800-1744382700@aquariumofniagara.org
SUMMARY:seal presentation
DESCRIPTION:
URL:https://aquariumofniagara.org/event/seal-presentation-2/2025-04-11/
LOCATION:Aquarium of Niagara: Main Building\, 701 Whirlpool St\, Niagara Falls\, NY\, 14301\, United States
CATEGORIES:Public Presentations
END:VEVENT
BEGIN:VEVENT
DTSTART;TZID=America/New_York:20250410T143000
DTEND;TZID=America/New_York:20250410T144500
DTSTAMP:20260425T123442
CREATED:20240522T211022Z
LAST-MODIFIED:20250121T020358Z
UID:10040168-1744295400-1744296300@aquariumofniagara.org
SUMMARY:seal presentation
DESCRIPTION:
URL:https://aquariumofniagara.org/event/seal-presentation-2/2025-04-10/
LOCATION:Aquarium of Niagara: Main Building\, 701 Whirlpool St\, Niagara Falls\, NY\, 14301\, United States
CATEGORIES:Public Presentations
END:VEVENT
BEGIN:VEVENT
DTSTART;TZID=America/New_York:20250409T143000
DTEND;TZID=America/New_York:20250409T144500
DTSTAMP:20260425T123442
CREATED:20240522T211022Z
LAST-MODIFIED:20250121T020358Z
UID:10040167-1744209000-1744209900@aquariumofniagara.org
SUMMARY:seal presentation
DESCRIPTION:
URL:https://aquariumofniagara.org/event/seal-presentation-2/2025-04-09/
LOCATION:Aquarium of Niagara: Main Building\, 701 Whirlpool St\, Niagara Falls\, NY\, 14301\, United States
CATEGORIES:Public Presentations
END:VEVENT
BEGIN:VEVENT
DTSTART;TZID=America/New_York:20250408T143000
DTEND;TZID=America/New_York:20250408T144500
DTSTAMP:20260425T123442
CREATED:20240522T211022Z
LAST-MODIFIED:20250121T020358Z
UID:10040166-1744122600-1744123500@aquariumofniagara.org
SUMMARY:seal presentation
DESCRIPTION:
URL:https://aquariumofniagara.org/event/seal-presentation-2/2025-04-08/
LOCATION:Aquarium of Niagara: Main Building\, 701 Whirlpool St\, Niagara Falls\, NY\, 14301\, United States
CATEGORIES:Public Presentations
END:VEVENT
BEGIN:VEVENT
DTSTART;TZID=America/New_York:20250408T113000
DTEND;TZID=America/New_York:20250408T114500
DTSTAMP:20260425T123442
CREATED:20240621T173951Z
LAST-MODIFIED:20250121T015522Z
UID:10055924-1744111800-1744112700@aquariumofniagara.org
SUMMARY:seal presentation
DESCRIPTION:
URL:https://aquariumofniagara.org/event/seal-presentation-3/2025-04-08/
LOCATION:Aquarium of Niagara: Main Building\, 701 Whirlpool St\, Niagara Falls\, NY\, 14301\, United States
CATEGORIES:Public Presentations
END:VEVENT
BEGIN:VEVENT
DTSTART;TZID=America/New_York:20250407T143000
DTEND;TZID=America/New_York:20250407T144500
DTSTAMP:20260425T123442
CREATED:20240522T211022Z
LAST-MODIFIED:20250121T020358Z
UID:10040165-1744036200-1744037100@aquariumofniagara.org
SUMMARY:seal presentation
DESCRIPTION:
URL:https://aquariumofniagara.org/event/seal-presentation-2/2025-04-07/
LOCATION:Aquarium of Niagara: Main Building\, 701 Whirlpool St\, Niagara Falls\, NY\, 14301\, United States
CATEGORIES:Public Presentations
END:VEVENT
BEGIN:VEVENT
DTSTART;TZID=America/New_York:20250407T113000
DTEND;TZID=America/New_York:20250407T114500
DTSTAMP:20260425T123442
CREATED:20240621T173951Z
LAST-MODIFIED:20250121T015522Z
UID:10055923-1744025400-1744026300@aquariumofniagara.org
SUMMARY:seal presentation
DESCRIPTION:
URL:https://aquariumofniagara.org/event/seal-presentation-3/2025-04-07/
LOCATION:Aquarium of Niagara: Main Building\, 701 Whirlpool St\, Niagara Falls\, NY\, 14301\, United States
CATEGORIES:Public Presentations
END:VEVENT
BEGIN:VEVENT
DTSTART;TZID=America/New_York:20250406T143000
DTEND;TZID=America/New_York:20250406T144500
DTSTAMP:20260425T123442
CREATED:20240522T211022Z
LAST-MODIFIED:20250121T020358Z
UID:10040164-1743949800-1743950700@aquariumofniagara.org
SUMMARY:seal presentation
DESCRIPTION:
URL:https://aquariumofniagara.org/event/seal-presentation-2/2025-04-06/
LOCATION:Aquarium of Niagara: Main Building\, 701 Whirlpool St\, Niagara Falls\, NY\, 14301\, United States
CATEGORIES:Public Presentations
END:VEVENT
BEGIN:VEVENT
DTSTART;TZID=America/New_York:20250406T113000
DTEND;TZID=America/New_York:20250406T114500
DTSTAMP:20260425T123442
CREATED:20240621T173951Z
LAST-MODIFIED:20250121T015522Z
UID:10055922-1743939000-1743939900@aquariumofniagara.org
SUMMARY:seal presentation
DESCRIPTION:
URL:https://aquariumofniagara.org/event/seal-presentation-3/2025-04-06/
LOCATION:Aquarium of Niagara: Main Building\, 701 Whirlpool St\, Niagara Falls\, NY\, 14301\, United States
CATEGORIES:Public Presentations
END:VEVENT
BEGIN:VEVENT
DTSTART;TZID=America/New_York:20250405T143000
DTEND;TZID=America/New_York:20250405T144500
DTSTAMP:20260425T123442
CREATED:20240522T211022Z
LAST-MODIFIED:20250121T020358Z
UID:10040163-1743863400-1743864300@aquariumofniagara.org
SUMMARY:seal presentation
DESCRIPTION:
URL:https://aquariumofniagara.org/event/seal-presentation-2/2025-04-05/
LOCATION:Aquarium of Niagara: Main Building\, 701 Whirlpool St\, Niagara Falls\, NY\, 14301\, United States
CATEGORIES:Public Presentations
END:VEVENT
BEGIN:VEVENT
DTSTART;TZID=America/New_York:20250405T113000
DTEND;TZID=America/New_York:20250405T114500
DTSTAMP:20260425T123442
CREATED:20240621T173951Z
LAST-MODIFIED:20250121T015522Z
UID:10055921-1743852600-1743853500@aquariumofniagara.org
SUMMARY:seal presentation
DESCRIPTION:
URL:https://aquariumofniagara.org/event/seal-presentation-3/2025-04-05/
LOCATION:Aquarium of Niagara: Main Building\, 701 Whirlpool St\, Niagara Falls\, NY\, 14301\, United States
CATEGORIES:Public Presentations
END:VEVENT
BEGIN:VEVENT
DTSTART;TZID=America/New_York:20250404T180000
DTEND;TZID=America/New_York:20250404T200000
DTSTAMP:20260425T123442
CREATED:20250119T183242Z
LAST-MODIFIED:20250228T220406Z
UID:10071533-1743789600-1743796800@aquariumofniagara.org
SUMMARY:ausome aquarium
DESCRIPTION:Families impacted by autism spectrum disorder are invited to visit the Aquarium in a supportive\, sensory-friendly environment.
URL:https://aquariumofniagara.org/event/ausome-aquarium/
LOCATION:Aquarium of Niagara: Main Building\, 701 Whirlpool St\, Niagara Falls\, NY\, 14301\, United States
END:VEVENT
BEGIN:VEVENT
DTSTART;TZID=America/New_York:20250404T143000
DTEND;TZID=America/New_York:20250404T144500
DTSTAMP:20260425T123442
CREATED:20240522T211022Z
LAST-MODIFIED:20250121T020358Z
UID:10040162-1743777000-1743777900@aquariumofniagara.org
SUMMARY:seal presentation
DESCRIPTION:
URL:https://aquariumofniagara.org/event/seal-presentation-2/2025-04-04/
LOCATION:Aquarium of Niagara: Main Building\, 701 Whirlpool St\, Niagara Falls\, NY\, 14301\, United States
CATEGORIES:Public Presentations
END:VEVENT
BEGIN:VEVENT
DTSTART;TZID=America/New_York:20250404T113000
DTEND;TZID=America/New_York:20250404T114500
DTSTAMP:20260425T123442
CREATED:20240621T173951Z
LAST-MODIFIED:20250121T015522Z
UID:10055920-1743766200-1743767100@aquariumofniagara.org
SUMMARY:seal presentation
DESCRIPTION:
URL:https://aquariumofniagara.org/event/seal-presentation-3/2025-04-04/
LOCATION:Aquarium of Niagara: Main Building\, 701 Whirlpool St\, Niagara Falls\, NY\, 14301\, United States
CATEGORIES:Public Presentations
END:VEVENT
BEGIN:VEVENT
DTSTART;TZID=America/New_York:20250403T143000
DTEND;TZID=America/New_York:20250403T144500
DTSTAMP:20260425T123442
CREATED:20240522T211022Z
LAST-MODIFIED:20250121T020358Z
UID:10040161-1743690600-1743691500@aquariumofniagara.org
SUMMARY:seal presentation
DESCRIPTION:
URL:https://aquariumofniagara.org/event/seal-presentation-2/2025-04-03/
LOCATION:Aquarium of Niagara: Main Building\, 701 Whirlpool St\, Niagara Falls\, NY\, 14301\, United States
CATEGORIES:Public Presentations
END:VEVENT
BEGIN:VEVENT
DTSTART;TZID=America/New_York:20250403T113000
DTEND;TZID=America/New_York:20250403T114500
DTSTAMP:20260425T123442
CREATED:20240621T173951Z
LAST-MODIFIED:20250121T015522Z
UID:10055919-1743679800-1743680700@aquariumofniagara.org
SUMMARY:seal presentation
DESCRIPTION:
URL:https://aquariumofniagara.org/event/seal-presentation-3/2025-04-03/
LOCATION:Aquarium of Niagara: Main Building\, 701 Whirlpool St\, Niagara Falls\, NY\, 14301\, United States
CATEGORIES:Public Presentations
END:VEVENT
END:VCALENDAR