BEGIN:VCALENDAR
VERSION:2.0
PRODID:-//Aquarium of Niagara - ECPv6.10.2//NONSGML v1.0//EN
CALSCALE:GREGORIAN
METHOD:PUBLISH
X-WR-CALNAME:Aquarium of Niagara
X-ORIGINAL-URL:https://aquariumofniagara.org
X-WR-CALDESC:Events for Aquarium of Niagara
REFRESH-INTERVAL;VALUE=DURATION:PT1H
X-Robots-Tag:noindex
X-PUBLISHED-TTL:PT1H
BEGIN:VTIMEZONE
TZID:America/New_York
BEGIN:DAYLIGHT
TZOFFSETFROM:-0500
TZOFFSETTO:-0400
TZNAME:EDT
DTSTART:20260308T070000
END:DAYLIGHT
BEGIN:STANDARD
TZOFFSETFROM:-0400
TZOFFSETTO:-0500
TZNAME:EST
DTSTART:20261101T060000
END:STANDARD
END:VTIMEZONE
BEGIN:VEVENT
DTSTART;TZID=America/New_York:20261203T110000
DTEND;TZID=America/New_York:20261203T111500
DTSTAMP:20260422T181338
CREATED:20251219T190021Z
LAST-MODIFIED:20260129T124140Z
UID:10082711-1796295600-1796296500@aquariumofniagara.org
SUMMARY:sea lion presentation
DESCRIPTION:
URL:https://aquariumofniagara.org/event/sea-lion-presentation-2-2-2-2-2/2026-12-03/
LOCATION:Aquarium of Niagara: Main Building\, 701 Whirlpool St\, Niagara Falls\, NY\, 14301\, United States
CATEGORIES:Public Presentations
END:VEVENT
BEGIN:VEVENT
DTSTART;TZID=America/New_York:20261203T120000
DTEND;TZID=America/New_York:20261203T121500
DTSTAMP:20260422T181338
CREATED:20251219T215613Z
LAST-MODIFIED:20260403T162557Z
UID:10080886-1796299200-1796300100@aquariumofniagara.org
SUMMARY:sea turtle presentation
DESCRIPTION:
URL:https://aquariumofniagara.org/event/sea-turtle-presentation-2-2/2026-12-03/
LOCATION:Aquarium of Niagara: Main Building\, 701 Whirlpool St\, Niagara Falls\, NY\, 14301\, United States
CATEGORIES:Public Presentations
END:VEVENT
BEGIN:VEVENT
DTSTART;TZID=America/New_York:20261203T130000
DTEND;TZID=America/New_York:20261203T131500
DTSTAMP:20260422T181338
CREATED:20251219T185917Z
LAST-MODIFIED:20260210T172556Z
UID:10087928-1796302800-1796303700@aquariumofniagara.org
SUMMARY:sea lion presentation
DESCRIPTION:
URL:https://aquariumofniagara.org/event/sea-lion-presentation-3-2/2026-12-03/
LOCATION:Aquarium of Niagara: Main Building\, 701 Whirlpool St\, Niagara Falls\, NY\, 14301\, United States
CATEGORIES:Public Presentations
END:VEVENT
BEGIN:VEVENT
DTSTART;TZID=America/New_York:20261203T133000
DTEND;TZID=America/New_York:20261203T134500
DTSTAMP:20260422T181338
CREATED:20251219T185200Z
LAST-MODIFIED:20260210T172350Z
UID:10079061-1796304600-1796305500@aquariumofniagara.org
SUMMARY:featured feeding
DESCRIPTION:
URL:https://aquariumofniagara.org/event/featured-feeding-2-2-2/2026-12-03/
LOCATION:Aquarium of Niagara: Main Building\, 701 Whirlpool St\, Niagara Falls\, NY\, 14301\, United States
CATEGORIES:Public Presentations
END:VEVENT
BEGIN:VEVENT
DTSTART;TZID=America/New_York:20261203T140000
DTEND;TZID=America/New_York:20261203T141500
DTSTAMP:20260422T181338
CREATED:20251219T215422Z
LAST-MODIFIED:20260125T230252Z
UID:10073586-1796306400-1796307300@aquariumofniagara.org
SUMMARY:penguin presentation
DESCRIPTION:
URL:https://aquariumofniagara.org/event/penguin-presentation-2-2-2/2026-12-03/
LOCATION:Aquarium of Niagara: Main Building\, 701 Whirlpool St\, Niagara Falls\, NY\, 14301\, United States
CATEGORIES:Public Presentations
END:VEVENT
BEGIN:VEVENT
DTSTART;TZID=America/New_York:20261203T153000
DTEND;TZID=America/New_York:20261203T153000
DTSTAMP:20260422T181338
CREATED:20260331T133729Z
LAST-MODIFIED:20260331T133730Z
UID:10090747-1796311800-1796311800@aquariumofniagara.org
SUMMARY:sea lion presentation
DESCRIPTION:
URL:https://aquariumofniagara.org/event/sea-lion-presentation-2-2-2-3-2/2026-12-03/
LOCATION:Aquarium of Niagara: Main Building\, 701 Whirlpool St\, Niagara Falls\, NY\, 14301\, United States
CATEGORIES:Public Presentations
END:VEVENT
BEGIN:VEVENT
DTSTART;TZID=America/New_York:20261204T100000
DTEND;TZID=America/New_York:20261204T101500
DTSTAMP:20260422T181338
CREATED:20251219T214103Z
LAST-MODIFIED:20260129T122759Z
UID:10075412-1796378400-1796379300@aquariumofniagara.org
SUMMARY:penguin presentation
DESCRIPTION:
URL:https://aquariumofniagara.org/event/penguin-presentation-2-3/2026-12-04/
LOCATION:Aquarium of Niagara: Main Building\, 701 Whirlpool St\, Niagara Falls\, NY\, 14301\, United States
CATEGORIES:Public Presentations
END:VEVENT
BEGIN:VEVENT
DTSTART;TZID=America/New_York:20261204T110000
DTEND;TZID=America/New_York:20261204T111500
DTSTAMP:20260422T181338
CREATED:20251219T190021Z
LAST-MODIFIED:20260129T124140Z
UID:10082712-1796382000-1796382900@aquariumofniagara.org
SUMMARY:sea lion presentation
DESCRIPTION:
URL:https://aquariumofniagara.org/event/sea-lion-presentation-2-2-2-2-2/2026-12-04/
LOCATION:Aquarium of Niagara: Main Building\, 701 Whirlpool St\, Niagara Falls\, NY\, 14301\, United States
CATEGORIES:Public Presentations
END:VEVENT
BEGIN:VEVENT
DTSTART;TZID=America/New_York:20261204T120000
DTEND;TZID=America/New_York:20261204T121500
DTSTAMP:20260422T181338
CREATED:20251219T215613Z
LAST-MODIFIED:20260403T162557Z
UID:10080887-1796385600-1796386500@aquariumofniagara.org
SUMMARY:sea turtle presentation
DESCRIPTION:
URL:https://aquariumofniagara.org/event/sea-turtle-presentation-2-2/2026-12-04/
LOCATION:Aquarium of Niagara: Main Building\, 701 Whirlpool St\, Niagara Falls\, NY\, 14301\, United States
CATEGORIES:Public Presentations
END:VEVENT
BEGIN:VEVENT
DTSTART;TZID=America/New_York:20261204T130000
DTEND;TZID=America/New_York:20261204T131500
DTSTAMP:20260422T181338
CREATED:20251219T185917Z
LAST-MODIFIED:20260210T172556Z
UID:10087929-1796389200-1796390100@aquariumofniagara.org
SUMMARY:sea lion presentation
DESCRIPTION:
URL:https://aquariumofniagara.org/event/sea-lion-presentation-3-2/2026-12-04/
LOCATION:Aquarium of Niagara: Main Building\, 701 Whirlpool St\, Niagara Falls\, NY\, 14301\, United States
CATEGORIES:Public Presentations
END:VEVENT
BEGIN:VEVENT
DTSTART;TZID=America/New_York:20261204T133000
DTEND;TZID=America/New_York:20261204T134500
DTSTAMP:20260422T181338
CREATED:20251219T185200Z
LAST-MODIFIED:20260210T172350Z
UID:10079062-1796391000-1796391900@aquariumofniagara.org
SUMMARY:featured feeding
DESCRIPTION:
URL:https://aquariumofniagara.org/event/featured-feeding-2-2-2/2026-12-04/
LOCATION:Aquarium of Niagara: Main Building\, 701 Whirlpool St\, Niagara Falls\, NY\, 14301\, United States
CATEGORIES:Public Presentations
END:VEVENT
BEGIN:VEVENT
DTSTART;TZID=America/New_York:20261204T140000
DTEND;TZID=America/New_York:20261204T141500
DTSTAMP:20260422T181338
CREATED:20251219T215422Z
LAST-MODIFIED:20260125T230252Z
UID:10073587-1796392800-1796393700@aquariumofniagara.org
SUMMARY:penguin presentation
DESCRIPTION:
URL:https://aquariumofniagara.org/event/penguin-presentation-2-2-2/2026-12-04/
LOCATION:Aquarium of Niagara: Main Building\, 701 Whirlpool St\, Niagara Falls\, NY\, 14301\, United States
CATEGORIES:Public Presentations
END:VEVENT
BEGIN:VEVENT
DTSTART;TZID=America/New_York:20261204T150000
DTEND;TZID=America/New_York:20261204T151500
DTSTAMP:20260422T181338
CREATED:20251103T223629Z
LAST-MODIFIED:20260124T172912Z
UID:10077237-1796396400-1796397300@aquariumofniagara.org
SUMMARY:featured feeding
DESCRIPTION:
URL:https://aquariumofniagara.org/event/featured-feeding-3-2/2026-12-04/
LOCATION:Aquarium of Niagara: Main Building\, 701 Whirlpool St\, Niagara Falls\, NY\, 14301\, United States
CATEGORIES:Public Presentations
END:VEVENT
BEGIN:VEVENT
DTSTART;TZID=America/New_York:20261204T153000
DTEND;TZID=America/New_York:20261204T153000
DTSTAMP:20260422T181338
CREATED:20260331T133729Z
LAST-MODIFIED:20260331T133730Z
UID:10086300-1796398200-1796398200@aquariumofniagara.org
SUMMARY:sea lion presentation
DESCRIPTION:
URL:https://aquariumofniagara.org/event/sea-lion-presentation-2-2-2-3-2/2026-12-04/
LOCATION:Aquarium of Niagara: Main Building\, 701 Whirlpool St\, Niagara Falls\, NY\, 14301\, United States
CATEGORIES:Public Presentations
END:VEVENT
BEGIN:VEVENT
DTSTART;TZID=America/New_York:20261205T100000
DTEND;TZID=America/New_York:20261205T101500
DTSTAMP:20260422T181338
CREATED:20251219T214103Z
LAST-MODIFIED:20260129T122759Z
UID:10075413-1796464800-1796465700@aquariumofniagara.org
SUMMARY:penguin presentation
DESCRIPTION:
URL:https://aquariumofniagara.org/event/penguin-presentation-2-3/2026-12-05/
LOCATION:Aquarium of Niagara: Main Building\, 701 Whirlpool St\, Niagara Falls\, NY\, 14301\, United States
CATEGORIES:Public Presentations
END:VEVENT
BEGIN:VEVENT
DTSTART;TZID=America/New_York:20261205T110000
DTEND;TZID=America/New_York:20261205T111500
DTSTAMP:20260422T181338
CREATED:20251219T190021Z
LAST-MODIFIED:20260129T124140Z
UID:10082713-1796468400-1796469300@aquariumofniagara.org
SUMMARY:sea lion presentation
DESCRIPTION:
URL:https://aquariumofniagara.org/event/sea-lion-presentation-2-2-2-2-2/2026-12-05/
LOCATION:Aquarium of Niagara: Main Building\, 701 Whirlpool St\, Niagara Falls\, NY\, 14301\, United States
CATEGORIES:Public Presentations
END:VEVENT
BEGIN:VEVENT
DTSTART;TZID=America/New_York:20261205T120000
DTEND;TZID=America/New_York:20261205T121500
DTSTAMP:20260422T181338
CREATED:20251219T215613Z
LAST-MODIFIED:20260403T162557Z
UID:10080888-1796472000-1796472900@aquariumofniagara.org
SUMMARY:sea turtle presentation
DESCRIPTION:
URL:https://aquariumofniagara.org/event/sea-turtle-presentation-2-2/2026-12-05/
LOCATION:Aquarium of Niagara: Main Building\, 701 Whirlpool St\, Niagara Falls\, NY\, 14301\, United States
CATEGORIES:Public Presentations
END:VEVENT
BEGIN:VEVENT
DTSTART;TZID=America/New_York:20261205T130000
DTEND;TZID=America/New_York:20261205T131500
DTSTAMP:20260422T181338
CREATED:20251219T185917Z
LAST-MODIFIED:20260210T172556Z
UID:10087930-1796475600-1796476500@aquariumofniagara.org
SUMMARY:sea lion presentation
DESCRIPTION:
URL:https://aquariumofniagara.org/event/sea-lion-presentation-3-2/2026-12-05/
LOCATION:Aquarium of Niagara: Main Building\, 701 Whirlpool St\, Niagara Falls\, NY\, 14301\, United States
CATEGORIES:Public Presentations
END:VEVENT
BEGIN:VEVENT
DTSTART;TZID=America/New_York:20261205T133000
DTEND;TZID=America/New_York:20261205T134500
DTSTAMP:20260422T181338
CREATED:20251219T185200Z
LAST-MODIFIED:20260210T172350Z
UID:10079063-1796477400-1796478300@aquariumofniagara.org
SUMMARY:featured feeding
DESCRIPTION:
URL:https://aquariumofniagara.org/event/featured-feeding-2-2-2/2026-12-05/
LOCATION:Aquarium of Niagara: Main Building\, 701 Whirlpool St\, Niagara Falls\, NY\, 14301\, United States
CATEGORIES:Public Presentations
END:VEVENT
BEGIN:VEVENT
DTSTART;TZID=America/New_York:20261205T140000
DTEND;TZID=America/New_York:20261205T141500
DTSTAMP:20260422T181338
CREATED:20251219T215422Z
LAST-MODIFIED:20260125T230252Z
UID:10073588-1796479200-1796480100@aquariumofniagara.org
SUMMARY:penguin presentation
DESCRIPTION:
URL:https://aquariumofniagara.org/event/penguin-presentation-2-2-2/2026-12-05/
LOCATION:Aquarium of Niagara: Main Building\, 701 Whirlpool St\, Niagara Falls\, NY\, 14301\, United States
CATEGORIES:Public Presentations
END:VEVENT
BEGIN:VEVENT
DTSTART;TZID=America/New_York:20261205T150000
DTEND;TZID=America/New_York:20261205T151500
DTSTAMP:20260422T181338
CREATED:20251103T223629Z
LAST-MODIFIED:20260124T172912Z
UID:10077238-1796482800-1796483700@aquariumofniagara.org
SUMMARY:featured feeding
DESCRIPTION:
URL:https://aquariumofniagara.org/event/featured-feeding-3-2/2026-12-05/
LOCATION:Aquarium of Niagara: Main Building\, 701 Whirlpool St\, Niagara Falls\, NY\, 14301\, United States
CATEGORIES:Public Presentations
END:VEVENT
BEGIN:VEVENT
DTSTART;TZID=America/New_York:20261205T153000
DTEND;TZID=America/New_York:20261205T153000
DTSTAMP:20260422T181338
CREATED:20260331T133729Z
LAST-MODIFIED:20260331T133730Z
UID:10086301-1796484600-1796484600@aquariumofniagara.org
SUMMARY:sea lion presentation
DESCRIPTION:
URL:https://aquariumofniagara.org/event/sea-lion-presentation-2-2-2-3-2/2026-12-05/
LOCATION:Aquarium of Niagara: Main Building\, 701 Whirlpool St\, Niagara Falls\, NY\, 14301\, United States
CATEGORIES:Public Presentations
END:VEVENT
BEGIN:VEVENT
DTSTART;TZID=America/New_York:20261206T100000
DTEND;TZID=America/New_York:20261206T101500
DTSTAMP:20260422T181338
CREATED:20251219T214103Z
LAST-MODIFIED:20260129T122759Z
UID:10075414-1796551200-1796552100@aquariumofniagara.org
SUMMARY:penguin presentation
DESCRIPTION:
URL:https://aquariumofniagara.org/event/penguin-presentation-2-3/2026-12-06/
LOCATION:Aquarium of Niagara: Main Building\, 701 Whirlpool St\, Niagara Falls\, NY\, 14301\, United States
CATEGORIES:Public Presentations
END:VEVENT
BEGIN:VEVENT
DTSTART;TZID=America/New_York:20261206T110000
DTEND;TZID=America/New_York:20261206T111500
DTSTAMP:20260422T181338
CREATED:20251219T190021Z
LAST-MODIFIED:20260129T124140Z
UID:10082714-1796554800-1796555700@aquariumofniagara.org
SUMMARY:sea lion presentation
DESCRIPTION:
URL:https://aquariumofniagara.org/event/sea-lion-presentation-2-2-2-2-2/2026-12-06/
LOCATION:Aquarium of Niagara: Main Building\, 701 Whirlpool St\, Niagara Falls\, NY\, 14301\, United States
CATEGORIES:Public Presentations
END:VEVENT
BEGIN:VEVENT
DTSTART;TZID=America/New_York:20261206T120000
DTEND;TZID=America/New_York:20261206T121500
DTSTAMP:20260422T181338
CREATED:20251219T215613Z
LAST-MODIFIED:20260403T162557Z
UID:10080889-1796558400-1796559300@aquariumofniagara.org
SUMMARY:sea turtle presentation
DESCRIPTION:
URL:https://aquariumofniagara.org/event/sea-turtle-presentation-2-2/2026-12-06/
LOCATION:Aquarium of Niagara: Main Building\, 701 Whirlpool St\, Niagara Falls\, NY\, 14301\, United States
CATEGORIES:Public Presentations
END:VEVENT
BEGIN:VEVENT
DTSTART;TZID=America/New_York:20261206T130000
DTEND;TZID=America/New_York:20261206T131500
DTSTAMP:20260422T181338
CREATED:20251219T185917Z
LAST-MODIFIED:20260210T172556Z
UID:10087931-1796562000-1796562900@aquariumofniagara.org
SUMMARY:sea lion presentation
DESCRIPTION:
URL:https://aquariumofniagara.org/event/sea-lion-presentation-3-2/2026-12-06/
LOCATION:Aquarium of Niagara: Main Building\, 701 Whirlpool St\, Niagara Falls\, NY\, 14301\, United States
CATEGORIES:Public Presentations
END:VEVENT
BEGIN:VEVENT
DTSTART;TZID=America/New_York:20261206T133000
DTEND;TZID=America/New_York:20261206T134500
DTSTAMP:20260422T181338
CREATED:20251219T185200Z
LAST-MODIFIED:20260210T172350Z
UID:10079064-1796563800-1796564700@aquariumofniagara.org
SUMMARY:featured feeding
DESCRIPTION:
URL:https://aquariumofniagara.org/event/featured-feeding-2-2-2/2026-12-06/
LOCATION:Aquarium of Niagara: Main Building\, 701 Whirlpool St\, Niagara Falls\, NY\, 14301\, United States
CATEGORIES:Public Presentations
END:VEVENT
BEGIN:VEVENT
DTSTART;TZID=America/New_York:20261206T140000
DTEND;TZID=America/New_York:20261206T141500
DTSTAMP:20260422T181338
CREATED:20251219T215422Z
LAST-MODIFIED:20260125T230252Z
UID:10073589-1796565600-1796566500@aquariumofniagara.org
SUMMARY:penguin presentation
DESCRIPTION:
URL:https://aquariumofniagara.org/event/penguin-presentation-2-2-2/2026-12-06/
LOCATION:Aquarium of Niagara: Main Building\, 701 Whirlpool St\, Niagara Falls\, NY\, 14301\, United States
CATEGORIES:Public Presentations
END:VEVENT
BEGIN:VEVENT
DTSTART;TZID=America/New_York:20261206T150000
DTEND;TZID=America/New_York:20261206T151500
DTSTAMP:20260422T181338
CREATED:20251103T223629Z
LAST-MODIFIED:20260124T172912Z
UID:10077239-1796569200-1796570100@aquariumofniagara.org
SUMMARY:featured feeding
DESCRIPTION:
URL:https://aquariumofniagara.org/event/featured-feeding-3-2/2026-12-06/
LOCATION:Aquarium of Niagara: Main Building\, 701 Whirlpool St\, Niagara Falls\, NY\, 14301\, United States
CATEGORIES:Public Presentations
END:VEVENT
BEGIN:VEVENT
DTSTART;TZID=America/New_York:20261206T153000
DTEND;TZID=America/New_York:20261206T153000
DTSTAMP:20260422T181338
CREATED:20260331T133729Z
LAST-MODIFIED:20260331T133730Z
UID:10086302-1796571000-1796571000@aquariumofniagara.org
SUMMARY:sea lion presentation
DESCRIPTION:
URL:https://aquariumofniagara.org/event/sea-lion-presentation-2-2-2-3-2/2026-12-06/
LOCATION:Aquarium of Niagara: Main Building\, 701 Whirlpool St\, Niagara Falls\, NY\, 14301\, United States
CATEGORIES:Public Presentations
END:VEVENT
END:VCALENDAR