BEGIN:VCALENDAR
VERSION:2.0
PRODID:-//Aquarium of Niagara - ECPv6.10.2//NONSGML v1.0//EN
CALSCALE:GREGORIAN
METHOD:PUBLISH
X-WR-CALNAME:Aquarium of Niagara
X-ORIGINAL-URL:https://aquariumofniagara.org
X-WR-CALDESC:Events for Aquarium of Niagara
REFRESH-INTERVAL;VALUE=DURATION:PT1H
X-Robots-Tag:noindex
X-PUBLISHED-TTL:PT1H
BEGIN:VTIMEZONE
TZID:America/New_York
BEGIN:DAYLIGHT
TZOFFSETFROM:-0500
TZOFFSETTO:-0400
TZNAME:EDT
DTSTART:20260308T070000
END:DAYLIGHT
BEGIN:STANDARD
TZOFFSETFROM:-0400
TZOFFSETTO:-0500
TZNAME:EST
DTSTART:20261101T060000
END:STANDARD
END:VTIMEZONE
BEGIN:VEVENT
DTSTART;TZID=America/New_York:20261128T100000
DTEND;TZID=America/New_York:20261128T101500
DTSTAMP:20260422T052005
CREATED:20251219T214103Z
LAST-MODIFIED:20260129T122759Z
UID:10075406-1795860000-1795860900@aquariumofniagara.org
SUMMARY:penguin presentation
DESCRIPTION:
URL:https://aquariumofniagara.org/event/penguin-presentation-2-3/2026-11-28/
LOCATION:Aquarium of Niagara: Main Building\, 701 Whirlpool St\, Niagara Falls\, NY\, 14301\, United States
CATEGORIES:Public Presentations
END:VEVENT
BEGIN:VEVENT
DTSTART;TZID=America/New_York:20261128T110000
DTEND;TZID=America/New_York:20261128T111500
DTSTAMP:20260422T052005
CREATED:20251219T190021Z
LAST-MODIFIED:20260129T124140Z
UID:10082706-1795863600-1795864500@aquariumofniagara.org
SUMMARY:sea lion presentation
DESCRIPTION:
URL:https://aquariumofniagara.org/event/sea-lion-presentation-2-2-2-2-2/2026-11-28/
LOCATION:Aquarium of Niagara: Main Building\, 701 Whirlpool St\, Niagara Falls\, NY\, 14301\, United States
CATEGORIES:Public Presentations
END:VEVENT
BEGIN:VEVENT
DTSTART;TZID=America/New_York:20261128T120000
DTEND;TZID=America/New_York:20261128T121500
DTSTAMP:20260422T052005
CREATED:20251219T215613Z
LAST-MODIFIED:20260403T162557Z
UID:10080881-1795867200-1795868100@aquariumofniagara.org
SUMMARY:sea turtle presentation
DESCRIPTION:
URL:https://aquariumofniagara.org/event/sea-turtle-presentation-2-2/2026-11-28/
LOCATION:Aquarium of Niagara: Main Building\, 701 Whirlpool St\, Niagara Falls\, NY\, 14301\, United States
CATEGORIES:Public Presentations
END:VEVENT
BEGIN:VEVENT
DTSTART;TZID=America/New_York:20261128T130000
DTEND;TZID=America/New_York:20261128T131500
DTSTAMP:20260422T052005
CREATED:20251219T185917Z
LAST-MODIFIED:20260210T172556Z
UID:10087923-1795870800-1795871700@aquariumofniagara.org
SUMMARY:sea lion presentation
DESCRIPTION:
URL:https://aquariumofniagara.org/event/sea-lion-presentation-3-2/2026-11-28/
LOCATION:Aquarium of Niagara: Main Building\, 701 Whirlpool St\, Niagara Falls\, NY\, 14301\, United States
CATEGORIES:Public Presentations
END:VEVENT
BEGIN:VEVENT
DTSTART;TZID=America/New_York:20261128T133000
DTEND;TZID=America/New_York:20261128T134500
DTSTAMP:20260422T052006
CREATED:20251219T185200Z
LAST-MODIFIED:20260210T172350Z
UID:10079056-1795872600-1795873500@aquariumofniagara.org
SUMMARY:featured feeding
DESCRIPTION:
URL:https://aquariumofniagara.org/event/featured-feeding-2-2-2/2026-11-28/
LOCATION:Aquarium of Niagara: Main Building\, 701 Whirlpool St\, Niagara Falls\, NY\, 14301\, United States
CATEGORIES:Public Presentations
END:VEVENT
BEGIN:VEVENT
DTSTART;TZID=America/New_York:20261128T140000
DTEND;TZID=America/New_York:20261128T141500
DTSTAMP:20260422T052006
CREATED:20251219T215422Z
LAST-MODIFIED:20260125T230252Z
UID:10073581-1795874400-1795875300@aquariumofniagara.org
SUMMARY:penguin presentation
DESCRIPTION:
URL:https://aquariumofniagara.org/event/penguin-presentation-2-2-2/2026-11-28/
LOCATION:Aquarium of Niagara: Main Building\, 701 Whirlpool St\, Niagara Falls\, NY\, 14301\, United States
CATEGORIES:Public Presentations
END:VEVENT
BEGIN:VEVENT
DTSTART;TZID=America/New_York:20261128T150000
DTEND;TZID=America/New_York:20261128T151500
DTSTAMP:20260422T052006
CREATED:20251103T223629Z
LAST-MODIFIED:20260124T172912Z
UID:10077231-1795878000-1795878900@aquariumofniagara.org
SUMMARY:featured feeding
DESCRIPTION:
URL:https://aquariumofniagara.org/event/featured-feeding-3-2/2026-11-28/
LOCATION:Aquarium of Niagara: Main Building\, 701 Whirlpool St\, Niagara Falls\, NY\, 14301\, United States
CATEGORIES:Public Presentations
END:VEVENT
BEGIN:VEVENT
DTSTART;TZID=America/New_York:20261128T153000
DTEND;TZID=America/New_York:20261128T153000
DTSTAMP:20260422T052006
CREATED:20260331T133729Z
LAST-MODIFIED:20260331T133730Z
UID:10086295-1795879800-1795879800@aquariumofniagara.org
SUMMARY:sea lion presentation
DESCRIPTION:
URL:https://aquariumofniagara.org/event/sea-lion-presentation-2-2-2-3-2/2026-11-28/
LOCATION:Aquarium of Niagara: Main Building\, 701 Whirlpool St\, Niagara Falls\, NY\, 14301\, United States
CATEGORIES:Public Presentations
END:VEVENT
BEGIN:VEVENT
DTSTART;TZID=America/New_York:20261129T100000
DTEND;TZID=America/New_York:20261129T101500
DTSTAMP:20260422T052006
CREATED:20251219T214103Z
LAST-MODIFIED:20260129T122759Z
UID:10075407-1795946400-1795947300@aquariumofniagara.org
SUMMARY:penguin presentation
DESCRIPTION:
URL:https://aquariumofniagara.org/event/penguin-presentation-2-3/2026-11-29/
LOCATION:Aquarium of Niagara: Main Building\, 701 Whirlpool St\, Niagara Falls\, NY\, 14301\, United States
CATEGORIES:Public Presentations
END:VEVENT
BEGIN:VEVENT
DTSTART;TZID=America/New_York:20261129T110000
DTEND;TZID=America/New_York:20261129T111500
DTSTAMP:20260422T052006
CREATED:20251219T190021Z
LAST-MODIFIED:20260129T124140Z
UID:10082707-1795950000-1795950900@aquariumofniagara.org
SUMMARY:sea lion presentation
DESCRIPTION:
URL:https://aquariumofniagara.org/event/sea-lion-presentation-2-2-2-2-2/2026-11-29/
LOCATION:Aquarium of Niagara: Main Building\, 701 Whirlpool St\, Niagara Falls\, NY\, 14301\, United States
CATEGORIES:Public Presentations
END:VEVENT
BEGIN:VEVENT
DTSTART;TZID=America/New_York:20261129T120000
DTEND;TZID=America/New_York:20261129T121500
DTSTAMP:20260422T052006
CREATED:20251219T215613Z
LAST-MODIFIED:20260403T162557Z
UID:10080882-1795953600-1795954500@aquariumofniagara.org
SUMMARY:sea turtle presentation
DESCRIPTION:
URL:https://aquariumofniagara.org/event/sea-turtle-presentation-2-2/2026-11-29/
LOCATION:Aquarium of Niagara: Main Building\, 701 Whirlpool St\, Niagara Falls\, NY\, 14301\, United States
CATEGORIES:Public Presentations
END:VEVENT
BEGIN:VEVENT
DTSTART;TZID=America/New_York:20261129T130000
DTEND;TZID=America/New_York:20261129T131500
DTSTAMP:20260422T052006
CREATED:20251219T185917Z
LAST-MODIFIED:20260210T172556Z
UID:10087924-1795957200-1795958100@aquariumofniagara.org
SUMMARY:sea lion presentation
DESCRIPTION:
URL:https://aquariumofniagara.org/event/sea-lion-presentation-3-2/2026-11-29/
LOCATION:Aquarium of Niagara: Main Building\, 701 Whirlpool St\, Niagara Falls\, NY\, 14301\, United States
CATEGORIES:Public Presentations
END:VEVENT
BEGIN:VEVENT
DTSTART;TZID=America/New_York:20261129T133000
DTEND;TZID=America/New_York:20261129T134500
DTSTAMP:20260422T052006
CREATED:20251219T185200Z
LAST-MODIFIED:20260210T172350Z
UID:10079057-1795959000-1795959900@aquariumofniagara.org
SUMMARY:featured feeding
DESCRIPTION:
URL:https://aquariumofniagara.org/event/featured-feeding-2-2-2/2026-11-29/
LOCATION:Aquarium of Niagara: Main Building\, 701 Whirlpool St\, Niagara Falls\, NY\, 14301\, United States
CATEGORIES:Public Presentations
END:VEVENT
BEGIN:VEVENT
DTSTART;TZID=America/New_York:20261129T140000
DTEND;TZID=America/New_York:20261129T141500
DTSTAMP:20260422T052006
CREATED:20251219T215422Z
LAST-MODIFIED:20260125T230252Z
UID:10073582-1795960800-1795961700@aquariumofniagara.org
SUMMARY:penguin presentation
DESCRIPTION:
URL:https://aquariumofniagara.org/event/penguin-presentation-2-2-2/2026-11-29/
LOCATION:Aquarium of Niagara: Main Building\, 701 Whirlpool St\, Niagara Falls\, NY\, 14301\, United States
CATEGORIES:Public Presentations
END:VEVENT
BEGIN:VEVENT
DTSTART;TZID=America/New_York:20261129T150000
DTEND;TZID=America/New_York:20261129T151500
DTSTAMP:20260422T052006
CREATED:20251103T223629Z
LAST-MODIFIED:20260124T172912Z
UID:10077232-1795964400-1795965300@aquariumofniagara.org
SUMMARY:featured feeding
DESCRIPTION:
URL:https://aquariumofniagara.org/event/featured-feeding-3-2/2026-11-29/
LOCATION:Aquarium of Niagara: Main Building\, 701 Whirlpool St\, Niagara Falls\, NY\, 14301\, United States
CATEGORIES:Public Presentations
END:VEVENT
BEGIN:VEVENT
DTSTART;TZID=America/New_York:20261129T153000
DTEND;TZID=America/New_York:20261129T153000
DTSTAMP:20260422T052006
CREATED:20260331T133729Z
LAST-MODIFIED:20260331T133730Z
UID:10086296-1795966200-1795966200@aquariumofniagara.org
SUMMARY:sea lion presentation
DESCRIPTION:
URL:https://aquariumofniagara.org/event/sea-lion-presentation-2-2-2-3-2/2026-11-29/
LOCATION:Aquarium of Niagara: Main Building\, 701 Whirlpool St\, Niagara Falls\, NY\, 14301\, United States
CATEGORIES:Public Presentations
END:VEVENT
BEGIN:VEVENT
DTSTART;TZID=America/New_York:20261130T100000
DTEND;TZID=America/New_York:20261130T101500
DTSTAMP:20260422T052006
CREATED:20251219T214103Z
LAST-MODIFIED:20260129T122759Z
UID:10075408-1796032800-1796033700@aquariumofniagara.org
SUMMARY:penguin presentation
DESCRIPTION:
URL:https://aquariumofniagara.org/event/penguin-presentation-2-3/2026-11-30/
LOCATION:Aquarium of Niagara: Main Building\, 701 Whirlpool St\, Niagara Falls\, NY\, 14301\, United States
CATEGORIES:Public Presentations
END:VEVENT
BEGIN:VEVENT
DTSTART;TZID=America/New_York:20261130T110000
DTEND;TZID=America/New_York:20261130T111500
DTSTAMP:20260422T052006
CREATED:20251219T190021Z
LAST-MODIFIED:20260129T124140Z
UID:10082708-1796036400-1796037300@aquariumofniagara.org
SUMMARY:sea lion presentation
DESCRIPTION:
URL:https://aquariumofniagara.org/event/sea-lion-presentation-2-2-2-2-2/2026-11-30/
LOCATION:Aquarium of Niagara: Main Building\, 701 Whirlpool St\, Niagara Falls\, NY\, 14301\, United States
CATEGORIES:Public Presentations
END:VEVENT
BEGIN:VEVENT
DTSTART;TZID=America/New_York:20261130T120000
DTEND;TZID=America/New_York:20261130T121500
DTSTAMP:20260422T052006
CREATED:20251219T215613Z
LAST-MODIFIED:20260403T162557Z
UID:10080883-1796040000-1796040900@aquariumofniagara.org
SUMMARY:sea turtle presentation
DESCRIPTION:
URL:https://aquariumofniagara.org/event/sea-turtle-presentation-2-2/2026-11-30/
LOCATION:Aquarium of Niagara: Main Building\, 701 Whirlpool St\, Niagara Falls\, NY\, 14301\, United States
CATEGORIES:Public Presentations
END:VEVENT
BEGIN:VEVENT
DTSTART;TZID=America/New_York:20261130T130000
DTEND;TZID=America/New_York:20261130T131500
DTSTAMP:20260422T052006
CREATED:20251219T185917Z
LAST-MODIFIED:20260210T172556Z
UID:10087925-1796043600-1796044500@aquariumofniagara.org
SUMMARY:sea lion presentation
DESCRIPTION:
URL:https://aquariumofniagara.org/event/sea-lion-presentation-3-2/2026-11-30/
LOCATION:Aquarium of Niagara: Main Building\, 701 Whirlpool St\, Niagara Falls\, NY\, 14301\, United States
CATEGORIES:Public Presentations
END:VEVENT
BEGIN:VEVENT
DTSTART;TZID=America/New_York:20261130T133000
DTEND;TZID=America/New_York:20261130T134500
DTSTAMP:20260422T052006
CREATED:20251219T185200Z
LAST-MODIFIED:20260210T172350Z
UID:10079058-1796045400-1796046300@aquariumofniagara.org
SUMMARY:featured feeding
DESCRIPTION:
URL:https://aquariumofniagara.org/event/featured-feeding-2-2-2/2026-11-30/
LOCATION:Aquarium of Niagara: Main Building\, 701 Whirlpool St\, Niagara Falls\, NY\, 14301\, United States
CATEGORIES:Public Presentations
END:VEVENT
BEGIN:VEVENT
DTSTART;TZID=America/New_York:20261130T140000
DTEND;TZID=America/New_York:20261130T141500
DTSTAMP:20260422T052006
CREATED:20251219T215422Z
LAST-MODIFIED:20260125T230252Z
UID:10073583-1796047200-1796048100@aquariumofniagara.org
SUMMARY:penguin presentation
DESCRIPTION:
URL:https://aquariumofniagara.org/event/penguin-presentation-2-2-2/2026-11-30/
LOCATION:Aquarium of Niagara: Main Building\, 701 Whirlpool St\, Niagara Falls\, NY\, 14301\, United States
CATEGORIES:Public Presentations
END:VEVENT
BEGIN:VEVENT
DTSTART;TZID=America/New_York:20261130T153000
DTEND;TZID=America/New_York:20261130T153000
DTSTAMP:20260422T052006
CREATED:20260331T133729Z
LAST-MODIFIED:20260331T133730Z
UID:10090745-1796052600-1796052600@aquariumofniagara.org
SUMMARY:sea lion presentation
DESCRIPTION:
URL:https://aquariumofniagara.org/event/sea-lion-presentation-2-2-2-3-2/2026-11-30/
LOCATION:Aquarium of Niagara: Main Building\, 701 Whirlpool St\, Niagara Falls\, NY\, 14301\, United States
CATEGORIES:Public Presentations
END:VEVENT
BEGIN:VEVENT
DTSTART;TZID=America/New_York:20261201T100000
DTEND;TZID=America/New_York:20261201T101500
DTSTAMP:20260422T052006
CREATED:20251219T214103Z
LAST-MODIFIED:20260129T122759Z
UID:10075409-1796119200-1796120100@aquariumofniagara.org
SUMMARY:penguin presentation
DESCRIPTION:
URL:https://aquariumofniagara.org/event/penguin-presentation-2-3/2026-12-01/
LOCATION:Aquarium of Niagara: Main Building\, 701 Whirlpool St\, Niagara Falls\, NY\, 14301\, United States
CATEGORIES:Public Presentations
END:VEVENT
BEGIN:VEVENT
DTSTART;TZID=America/New_York:20261201T110000
DTEND;TZID=America/New_York:20261201T111500
DTSTAMP:20260422T052006
CREATED:20251219T190021Z
LAST-MODIFIED:20260129T124140Z
UID:10082709-1796122800-1796123700@aquariumofniagara.org
SUMMARY:sea lion presentation
DESCRIPTION:
URL:https://aquariumofniagara.org/event/sea-lion-presentation-2-2-2-2-2/2026-12-01/
LOCATION:Aquarium of Niagara: Main Building\, 701 Whirlpool St\, Niagara Falls\, NY\, 14301\, United States
CATEGORIES:Public Presentations
END:VEVENT
BEGIN:VEVENT
DTSTART;TZID=America/New_York:20261201T120000
DTEND;TZID=America/New_York:20261201T121500
DTSTAMP:20260422T052006
CREATED:20251219T215613Z
LAST-MODIFIED:20260403T162557Z
UID:10080884-1796126400-1796127300@aquariumofniagara.org
SUMMARY:sea turtle presentation
DESCRIPTION:
URL:https://aquariumofniagara.org/event/sea-turtle-presentation-2-2/2026-12-01/
LOCATION:Aquarium of Niagara: Main Building\, 701 Whirlpool St\, Niagara Falls\, NY\, 14301\, United States
CATEGORIES:Public Presentations
END:VEVENT
BEGIN:VEVENT
DTSTART;TZID=America/New_York:20261201T130000
DTEND;TZID=America/New_York:20261201T131500
DTSTAMP:20260422T052006
CREATED:20251219T185917Z
LAST-MODIFIED:20260210T172556Z
UID:10087926-1796130000-1796130900@aquariumofniagara.org
SUMMARY:sea lion presentation
DESCRIPTION:
URL:https://aquariumofniagara.org/event/sea-lion-presentation-3-2/2026-12-01/
LOCATION:Aquarium of Niagara: Main Building\, 701 Whirlpool St\, Niagara Falls\, NY\, 14301\, United States
CATEGORIES:Public Presentations
END:VEVENT
BEGIN:VEVENT
DTSTART;TZID=America/New_York:20261201T133000
DTEND;TZID=America/New_York:20261201T134500
DTSTAMP:20260422T052006
CREATED:20251219T185200Z
LAST-MODIFIED:20260210T172350Z
UID:10079059-1796131800-1796132700@aquariumofniagara.org
SUMMARY:featured feeding
DESCRIPTION:
URL:https://aquariumofniagara.org/event/featured-feeding-2-2-2/2026-12-01/
LOCATION:Aquarium of Niagara: Main Building\, 701 Whirlpool St\, Niagara Falls\, NY\, 14301\, United States
CATEGORIES:Public Presentations
END:VEVENT
BEGIN:VEVENT
DTSTART;TZID=America/New_York:20261201T140000
DTEND;TZID=America/New_York:20261201T141500
DTSTAMP:20260422T052006
CREATED:20251219T215422Z
LAST-MODIFIED:20260125T230252Z
UID:10073584-1796133600-1796134500@aquariumofniagara.org
SUMMARY:penguin presentation
DESCRIPTION:
URL:https://aquariumofniagara.org/event/penguin-presentation-2-2-2/2026-12-01/
LOCATION:Aquarium of Niagara: Main Building\, 701 Whirlpool St\, Niagara Falls\, NY\, 14301\, United States
CATEGORIES:Public Presentations
END:VEVENT
BEGIN:VEVENT
DTSTART;TZID=America/New_York:20261201T150000
DTEND;TZID=America/New_York:20261201T151500
DTSTAMP:20260422T052006
CREATED:20251103T223629Z
LAST-MODIFIED:20260124T172912Z
UID:10077234-1796137200-1796138100@aquariumofniagara.org
SUMMARY:featured feeding
DESCRIPTION:
URL:https://aquariumofniagara.org/event/featured-feeding-3-2/2026-12-01/
LOCATION:Aquarium of Niagara: Main Building\, 701 Whirlpool St\, Niagara Falls\, NY\, 14301\, United States
CATEGORIES:Public Presentations
END:VEVENT
END:VCALENDAR