BEGIN:VCALENDAR
VERSION:2.0
PRODID:-//Aquarium of Niagara - ECPv6.10.2//NONSGML v1.0//EN
CALSCALE:GREGORIAN
METHOD:PUBLISH
X-WR-CALNAME:Aquarium of Niagara
X-ORIGINAL-URL:https://aquariumofniagara.org
X-WR-CALDESC:Events for Aquarium of Niagara
REFRESH-INTERVAL;VALUE=DURATION:PT1H
X-Robots-Tag:noindex
X-PUBLISHED-TTL:PT1H
BEGIN:VTIMEZONE
TZID:America/New_York
BEGIN:DAYLIGHT
TZOFFSETFROM:-0500
TZOFFSETTO:-0400
TZNAME:EDT
DTSTART:20260308T070000
END:DAYLIGHT
BEGIN:STANDARD
TZOFFSETFROM:-0400
TZOFFSETTO:-0500
TZNAME:EST
DTSTART:20261101T060000
END:STANDARD
END:VTIMEZONE
BEGIN:VEVENT
DTSTART;TZID=America/New_York:20261125T120000
DTEND;TZID=America/New_York:20261125T121500
DTSTAMP:20260421T203055
CREATED:20251219T215613Z
LAST-MODIFIED:20260403T162557Z
UID:10080878-1795608000-1795608900@aquariumofniagara.org
SUMMARY:sea turtle presentation
DESCRIPTION:
URL:https://aquariumofniagara.org/event/sea-turtle-presentation-2-2/2026-11-25/
LOCATION:Aquarium of Niagara: Main Building\, 701 Whirlpool St\, Niagara Falls\, NY\, 14301\, United States
CATEGORIES:Public Presentations
END:VEVENT
BEGIN:VEVENT
DTSTART;TZID=America/New_York:20261125T130000
DTEND;TZID=America/New_York:20261125T131500
DTSTAMP:20260421T203055
CREATED:20251219T185917Z
LAST-MODIFIED:20260210T172556Z
UID:10087920-1795611600-1795612500@aquariumofniagara.org
SUMMARY:sea lion presentation
DESCRIPTION:
URL:https://aquariumofniagara.org/event/sea-lion-presentation-3-2/2026-11-25/
LOCATION:Aquarium of Niagara: Main Building\, 701 Whirlpool St\, Niagara Falls\, NY\, 14301\, United States
CATEGORIES:Public Presentations
END:VEVENT
BEGIN:VEVENT
DTSTART;TZID=America/New_York:20261125T133000
DTEND;TZID=America/New_York:20261125T134500
DTSTAMP:20260421T203055
CREATED:20251219T185200Z
LAST-MODIFIED:20260210T172350Z
UID:10079053-1795613400-1795614300@aquariumofniagara.org
SUMMARY:featured feeding
DESCRIPTION:
URL:https://aquariumofniagara.org/event/featured-feeding-2-2-2/2026-11-25/
LOCATION:Aquarium of Niagara: Main Building\, 701 Whirlpool St\, Niagara Falls\, NY\, 14301\, United States
CATEGORIES:Public Presentations
END:VEVENT
BEGIN:VEVENT
DTSTART;TZID=America/New_York:20261125T140000
DTEND;TZID=America/New_York:20261125T141500
DTSTAMP:20260421T203055
CREATED:20251219T215422Z
LAST-MODIFIED:20260125T230252Z
UID:10073578-1795615200-1795616100@aquariumofniagara.org
SUMMARY:penguin presentation
DESCRIPTION:
URL:https://aquariumofniagara.org/event/penguin-presentation-2-2-2/2026-11-25/
LOCATION:Aquarium of Niagara: Main Building\, 701 Whirlpool St\, Niagara Falls\, NY\, 14301\, United States
CATEGORIES:Public Presentations
END:VEVENT
BEGIN:VEVENT
DTSTART;TZID=America/New_York:20261125T153000
DTEND;TZID=America/New_York:20261125T153000
DTSTAMP:20260421T203055
CREATED:20260331T133729Z
LAST-MODIFIED:20260331T133730Z
UID:10090629-1795620600-1795620600@aquariumofniagara.org
SUMMARY:sea lion presentation
DESCRIPTION:
URL:https://aquariumofniagara.org/event/sea-lion-presentation-2-2-2-3-2/2026-11-25/
LOCATION:Aquarium of Niagara: Main Building\, 701 Whirlpool St\, Niagara Falls\, NY\, 14301\, United States
CATEGORIES:Public Presentations
END:VEVENT
BEGIN:VEVENT
DTSTART;TZID=America/New_York:20261126T100000
DTEND;TZID=America/New_York:20261126T101500
DTSTAMP:20260421T203055
CREATED:20251219T214103Z
LAST-MODIFIED:20260129T122759Z
UID:10075404-1795687200-1795688100@aquariumofniagara.org
SUMMARY:penguin presentation
DESCRIPTION:
URL:https://aquariumofniagara.org/event/penguin-presentation-2-3/2026-11-26/
LOCATION:Aquarium of Niagara: Main Building\, 701 Whirlpool St\, Niagara Falls\, NY\, 14301\, United States
CATEGORIES:Public Presentations
END:VEVENT
BEGIN:VEVENT
DTSTART;TZID=America/New_York:20261126T110000
DTEND;TZID=America/New_York:20261126T111500
DTSTAMP:20260421T203055
CREATED:20251219T190021Z
LAST-MODIFIED:20260129T124140Z
UID:10082704-1795690800-1795691700@aquariumofniagara.org
SUMMARY:sea lion presentation
DESCRIPTION:
URL:https://aquariumofniagara.org/event/sea-lion-presentation-2-2-2-2-2/2026-11-26/
LOCATION:Aquarium of Niagara: Main Building\, 701 Whirlpool St\, Niagara Falls\, NY\, 14301\, United States
CATEGORIES:Public Presentations
END:VEVENT
BEGIN:VEVENT
DTSTART;TZID=America/New_York:20261126T120000
DTEND;TZID=America/New_York:20261126T121500
DTSTAMP:20260421T203055
CREATED:20251219T215613Z
LAST-MODIFIED:20260403T162557Z
UID:10080879-1795694400-1795695300@aquariumofniagara.org
SUMMARY:sea turtle presentation
DESCRIPTION:
URL:https://aquariumofniagara.org/event/sea-turtle-presentation-2-2/2026-11-26/
LOCATION:Aquarium of Niagara: Main Building\, 701 Whirlpool St\, Niagara Falls\, NY\, 14301\, United States
CATEGORIES:Public Presentations
END:VEVENT
BEGIN:VEVENT
DTSTART;TZID=America/New_York:20261126T130000
DTEND;TZID=America/New_York:20261126T131500
DTSTAMP:20260421T203055
CREATED:20251219T185917Z
LAST-MODIFIED:20260210T172556Z
UID:10087921-1795698000-1795698900@aquariumofniagara.org
SUMMARY:sea lion presentation
DESCRIPTION:
URL:https://aquariumofniagara.org/event/sea-lion-presentation-3-2/2026-11-26/
LOCATION:Aquarium of Niagara: Main Building\, 701 Whirlpool St\, Niagara Falls\, NY\, 14301\, United States
CATEGORIES:Public Presentations
END:VEVENT
BEGIN:VEVENT
DTSTART;TZID=America/New_York:20261126T133000
DTEND;TZID=America/New_York:20261126T134500
DTSTAMP:20260421T203055
CREATED:20251219T185200Z
LAST-MODIFIED:20260210T172350Z
UID:10079054-1795699800-1795700700@aquariumofniagara.org
SUMMARY:featured feeding
DESCRIPTION:
URL:https://aquariumofniagara.org/event/featured-feeding-2-2-2/2026-11-26/
LOCATION:Aquarium of Niagara: Main Building\, 701 Whirlpool St\, Niagara Falls\, NY\, 14301\, United States
CATEGORIES:Public Presentations
END:VEVENT
BEGIN:VEVENT
DTSTART;TZID=America/New_York:20261126T140000
DTEND;TZID=America/New_York:20261126T141500
DTSTAMP:20260421T203055
CREATED:20251219T215422Z
LAST-MODIFIED:20260125T230252Z
UID:10073579-1795701600-1795702500@aquariumofniagara.org
SUMMARY:penguin presentation
DESCRIPTION:
URL:https://aquariumofniagara.org/event/penguin-presentation-2-2-2/2026-11-26/
LOCATION:Aquarium of Niagara: Main Building\, 701 Whirlpool St\, Niagara Falls\, NY\, 14301\, United States
CATEGORIES:Public Presentations
END:VEVENT
BEGIN:VEVENT
DTSTART;TZID=America/New_York:20261126T153000
DTEND;TZID=America/New_York:20261126T153000
DTSTAMP:20260421T203055
CREATED:20260331T133729Z
LAST-MODIFIED:20260331T133730Z
UID:10090744-1795707000-1795707000@aquariumofniagara.org
SUMMARY:sea lion presentation
DESCRIPTION:
URL:https://aquariumofniagara.org/event/sea-lion-presentation-2-2-2-3-2/2026-11-26/
LOCATION:Aquarium of Niagara: Main Building\, 701 Whirlpool St\, Niagara Falls\, NY\, 14301\, United States
CATEGORIES:Public Presentations
END:VEVENT
BEGIN:VEVENT
DTSTART;TZID=America/New_York:20261127T100000
DTEND;TZID=America/New_York:20261127T101500
DTSTAMP:20260421T203055
CREATED:20251219T214103Z
LAST-MODIFIED:20260129T122759Z
UID:10075405-1795773600-1795774500@aquariumofniagara.org
SUMMARY:penguin presentation
DESCRIPTION:
URL:https://aquariumofniagara.org/event/penguin-presentation-2-3/2026-11-27/
LOCATION:Aquarium of Niagara: Main Building\, 701 Whirlpool St\, Niagara Falls\, NY\, 14301\, United States
CATEGORIES:Public Presentations
END:VEVENT
BEGIN:VEVENT
DTSTART;TZID=America/New_York:20261127T110000
DTEND;TZID=America/New_York:20261127T111500
DTSTAMP:20260421T203055
CREATED:20251219T190021Z
LAST-MODIFIED:20260129T124140Z
UID:10082705-1795777200-1795778100@aquariumofniagara.org
SUMMARY:sea lion presentation
DESCRIPTION:
URL:https://aquariumofniagara.org/event/sea-lion-presentation-2-2-2-2-2/2026-11-27/
LOCATION:Aquarium of Niagara: Main Building\, 701 Whirlpool St\, Niagara Falls\, NY\, 14301\, United States
CATEGORIES:Public Presentations
END:VEVENT
BEGIN:VEVENT
DTSTART;TZID=America/New_York:20261127T120000
DTEND;TZID=America/New_York:20261127T121500
DTSTAMP:20260421T203055
CREATED:20251219T215613Z
LAST-MODIFIED:20260403T162557Z
UID:10080880-1795780800-1795781700@aquariumofniagara.org
SUMMARY:sea turtle presentation
DESCRIPTION:
URL:https://aquariumofniagara.org/event/sea-turtle-presentation-2-2/2026-11-27/
LOCATION:Aquarium of Niagara: Main Building\, 701 Whirlpool St\, Niagara Falls\, NY\, 14301\, United States
CATEGORIES:Public Presentations
END:VEVENT
BEGIN:VEVENT
DTSTART;TZID=America/New_York:20261127T130000
DTEND;TZID=America/New_York:20261127T131500
DTSTAMP:20260421T203055
CREATED:20251219T185917Z
LAST-MODIFIED:20260210T172556Z
UID:10087922-1795784400-1795785300@aquariumofniagara.org
SUMMARY:sea lion presentation
DESCRIPTION:
URL:https://aquariumofniagara.org/event/sea-lion-presentation-3-2/2026-11-27/
LOCATION:Aquarium of Niagara: Main Building\, 701 Whirlpool St\, Niagara Falls\, NY\, 14301\, United States
CATEGORIES:Public Presentations
END:VEVENT
BEGIN:VEVENT
DTSTART;TZID=America/New_York:20261127T133000
DTEND;TZID=America/New_York:20261127T134500
DTSTAMP:20260421T203055
CREATED:20251219T185200Z
LAST-MODIFIED:20260210T172350Z
UID:10079055-1795786200-1795787100@aquariumofniagara.org
SUMMARY:featured feeding
DESCRIPTION:
URL:https://aquariumofniagara.org/event/featured-feeding-2-2-2/2026-11-27/
LOCATION:Aquarium of Niagara: Main Building\, 701 Whirlpool St\, Niagara Falls\, NY\, 14301\, United States
CATEGORIES:Public Presentations
END:VEVENT
BEGIN:VEVENT
DTSTART;TZID=America/New_York:20261127T140000
DTEND;TZID=America/New_York:20261127T141500
DTSTAMP:20260421T203055
CREATED:20251219T215422Z
LAST-MODIFIED:20260125T230252Z
UID:10073580-1795788000-1795788900@aquariumofniagara.org
SUMMARY:penguin presentation
DESCRIPTION:
URL:https://aquariumofniagara.org/event/penguin-presentation-2-2-2/2026-11-27/
LOCATION:Aquarium of Niagara: Main Building\, 701 Whirlpool St\, Niagara Falls\, NY\, 14301\, United States
CATEGORIES:Public Presentations
END:VEVENT
BEGIN:VEVENT
DTSTART;TZID=America/New_York:20261127T150000
DTEND;TZID=America/New_York:20261127T151500
DTSTAMP:20260421T203055
CREATED:20251103T223629Z
LAST-MODIFIED:20260124T172912Z
UID:10077230-1795791600-1795792500@aquariumofniagara.org
SUMMARY:featured feeding
DESCRIPTION:
URL:https://aquariumofniagara.org/event/featured-feeding-3-2/2026-11-27/
LOCATION:Aquarium of Niagara: Main Building\, 701 Whirlpool St\, Niagara Falls\, NY\, 14301\, United States
CATEGORIES:Public Presentations
END:VEVENT
BEGIN:VEVENT
DTSTART;TZID=America/New_York:20261127T153000
DTEND;TZID=America/New_York:20261127T153000
DTSTAMP:20260421T203055
CREATED:20260331T133729Z
LAST-MODIFIED:20260331T133730Z
UID:10086294-1795793400-1795793400@aquariumofniagara.org
SUMMARY:sea lion presentation
DESCRIPTION:
URL:https://aquariumofniagara.org/event/sea-lion-presentation-2-2-2-3-2/2026-11-27/
LOCATION:Aquarium of Niagara: Main Building\, 701 Whirlpool St\, Niagara Falls\, NY\, 14301\, United States
CATEGORIES:Public Presentations
END:VEVENT
BEGIN:VEVENT
DTSTART;TZID=America/New_York:20261128T100000
DTEND;TZID=America/New_York:20261128T101500
DTSTAMP:20260421T203055
CREATED:20251219T214103Z
LAST-MODIFIED:20260129T122759Z
UID:10075406-1795860000-1795860900@aquariumofniagara.org
SUMMARY:penguin presentation
DESCRIPTION:
URL:https://aquariumofniagara.org/event/penguin-presentation-2-3/2026-11-28/
LOCATION:Aquarium of Niagara: Main Building\, 701 Whirlpool St\, Niagara Falls\, NY\, 14301\, United States
CATEGORIES:Public Presentations
END:VEVENT
BEGIN:VEVENT
DTSTART;TZID=America/New_York:20261128T110000
DTEND;TZID=America/New_York:20261128T111500
DTSTAMP:20260421T203055
CREATED:20251219T190021Z
LAST-MODIFIED:20260129T124140Z
UID:10082706-1795863600-1795864500@aquariumofniagara.org
SUMMARY:sea lion presentation
DESCRIPTION:
URL:https://aquariumofniagara.org/event/sea-lion-presentation-2-2-2-2-2/2026-11-28/
LOCATION:Aquarium of Niagara: Main Building\, 701 Whirlpool St\, Niagara Falls\, NY\, 14301\, United States
CATEGORIES:Public Presentations
END:VEVENT
BEGIN:VEVENT
DTSTART;TZID=America/New_York:20261128T120000
DTEND;TZID=America/New_York:20261128T121500
DTSTAMP:20260421T203055
CREATED:20251219T215613Z
LAST-MODIFIED:20260403T162557Z
UID:10080881-1795867200-1795868100@aquariumofniagara.org
SUMMARY:sea turtle presentation
DESCRIPTION:
URL:https://aquariumofniagara.org/event/sea-turtle-presentation-2-2/2026-11-28/
LOCATION:Aquarium of Niagara: Main Building\, 701 Whirlpool St\, Niagara Falls\, NY\, 14301\, United States
CATEGORIES:Public Presentations
END:VEVENT
BEGIN:VEVENT
DTSTART;TZID=America/New_York:20261128T130000
DTEND;TZID=America/New_York:20261128T131500
DTSTAMP:20260421T203055
CREATED:20251219T185917Z
LAST-MODIFIED:20260210T172556Z
UID:10087923-1795870800-1795871700@aquariumofniagara.org
SUMMARY:sea lion presentation
DESCRIPTION:
URL:https://aquariumofniagara.org/event/sea-lion-presentation-3-2/2026-11-28/
LOCATION:Aquarium of Niagara: Main Building\, 701 Whirlpool St\, Niagara Falls\, NY\, 14301\, United States
CATEGORIES:Public Presentations
END:VEVENT
BEGIN:VEVENT
DTSTART;TZID=America/New_York:20261128T133000
DTEND;TZID=America/New_York:20261128T134500
DTSTAMP:20260421T203055
CREATED:20251219T185200Z
LAST-MODIFIED:20260210T172350Z
UID:10079056-1795872600-1795873500@aquariumofniagara.org
SUMMARY:featured feeding
DESCRIPTION:
URL:https://aquariumofniagara.org/event/featured-feeding-2-2-2/2026-11-28/
LOCATION:Aquarium of Niagara: Main Building\, 701 Whirlpool St\, Niagara Falls\, NY\, 14301\, United States
CATEGORIES:Public Presentations
END:VEVENT
BEGIN:VEVENT
DTSTART;TZID=America/New_York:20261128T140000
DTEND;TZID=America/New_York:20261128T141500
DTSTAMP:20260421T203055
CREATED:20251219T215422Z
LAST-MODIFIED:20260125T230252Z
UID:10073581-1795874400-1795875300@aquariumofniagara.org
SUMMARY:penguin presentation
DESCRIPTION:
URL:https://aquariumofniagara.org/event/penguin-presentation-2-2-2/2026-11-28/
LOCATION:Aquarium of Niagara: Main Building\, 701 Whirlpool St\, Niagara Falls\, NY\, 14301\, United States
CATEGORIES:Public Presentations
END:VEVENT
BEGIN:VEVENT
DTSTART;TZID=America/New_York:20261128T150000
DTEND;TZID=America/New_York:20261128T151500
DTSTAMP:20260421T203055
CREATED:20251103T223629Z
LAST-MODIFIED:20260124T172912Z
UID:10077231-1795878000-1795878900@aquariumofniagara.org
SUMMARY:featured feeding
DESCRIPTION:
URL:https://aquariumofniagara.org/event/featured-feeding-3-2/2026-11-28/
LOCATION:Aquarium of Niagara: Main Building\, 701 Whirlpool St\, Niagara Falls\, NY\, 14301\, United States
CATEGORIES:Public Presentations
END:VEVENT
BEGIN:VEVENT
DTSTART;TZID=America/New_York:20261128T153000
DTEND;TZID=America/New_York:20261128T153000
DTSTAMP:20260421T203055
CREATED:20260331T133729Z
LAST-MODIFIED:20260331T133730Z
UID:10086295-1795879800-1795879800@aquariumofniagara.org
SUMMARY:sea lion presentation
DESCRIPTION:
URL:https://aquariumofniagara.org/event/sea-lion-presentation-2-2-2-3-2/2026-11-28/
LOCATION:Aquarium of Niagara: Main Building\, 701 Whirlpool St\, Niagara Falls\, NY\, 14301\, United States
CATEGORIES:Public Presentations
END:VEVENT
BEGIN:VEVENT
DTSTART;TZID=America/New_York:20261129T100000
DTEND;TZID=America/New_York:20261129T101500
DTSTAMP:20260421T203055
CREATED:20251219T214103Z
LAST-MODIFIED:20260129T122759Z
UID:10075407-1795946400-1795947300@aquariumofniagara.org
SUMMARY:penguin presentation
DESCRIPTION:
URL:https://aquariumofniagara.org/event/penguin-presentation-2-3/2026-11-29/
LOCATION:Aquarium of Niagara: Main Building\, 701 Whirlpool St\, Niagara Falls\, NY\, 14301\, United States
CATEGORIES:Public Presentations
END:VEVENT
BEGIN:VEVENT
DTSTART;TZID=America/New_York:20261129T110000
DTEND;TZID=America/New_York:20261129T111500
DTSTAMP:20260421T203055
CREATED:20251219T190021Z
LAST-MODIFIED:20260129T124140Z
UID:10082707-1795950000-1795950900@aquariumofniagara.org
SUMMARY:sea lion presentation
DESCRIPTION:
URL:https://aquariumofniagara.org/event/sea-lion-presentation-2-2-2-2-2/2026-11-29/
LOCATION:Aquarium of Niagara: Main Building\, 701 Whirlpool St\, Niagara Falls\, NY\, 14301\, United States
CATEGORIES:Public Presentations
END:VEVENT
END:VCALENDAR