BEGIN:VCALENDAR
VERSION:2.0
PRODID:-//Aquarium of Niagara - ECPv6.10.2//NONSGML v1.0//EN
CALSCALE:GREGORIAN
METHOD:PUBLISH
X-WR-CALNAME:Aquarium of Niagara
X-ORIGINAL-URL:https://aquariumofniagara.org
X-WR-CALDESC:Events for Aquarium of Niagara
REFRESH-INTERVAL;VALUE=DURATION:PT1H
X-Robots-Tag:noindex
X-PUBLISHED-TTL:PT1H
BEGIN:VTIMEZONE
TZID:America/New_York
BEGIN:DAYLIGHT
TZOFFSETFROM:-0500
TZOFFSETTO:-0400
TZNAME:EDT
DTSTART:20250309T070000
END:DAYLIGHT
BEGIN:STANDARD
TZOFFSETFROM:-0400
TZOFFSETTO:-0500
TZNAME:EST
DTSTART:20251102T060000
END:STANDARD
END:VTIMEZONE
BEGIN:VEVENT
DTSTART;TZID=America/New_York:20250917T153000
DTEND;TZID=America/New_York:20250917T154500
DTSTAMP:20260423T043352
CREATED:20250904T205245Z
LAST-MODIFIED:20250904T205245Z
UID:10085920-1758123000-1758123900@aquariumofniagara.org
SUMMARY:sea lion presentation
DESCRIPTION:
URL:https://aquariumofniagara.org/event/sea-lion-presentation-2/2025-09-17/
LOCATION:Aquarium of Niagara: Main Building\, 701 Whirlpool St\, Niagara Falls\, NY\, 14301\, United States
CATEGORIES:Public Presentations
END:VEVENT
BEGIN:VEVENT
DTSTART;TZID=America/New_York:20250917T150000
DTEND;TZID=America/New_York:20250917T151500
DTSTAMP:20260423T043352
CREATED:20250904T202726Z
LAST-MODIFIED:20250904T202910Z
UID:10076794-1758121200-1758122100@aquariumofniagara.org
SUMMARY:featured feeding
DESCRIPTION:
URL:https://aquariumofniagara.org/event/featured-feeding-3/2025-09-17/
LOCATION:Aquarium of Niagara: Main Building\, 701 Whirlpool St\, Niagara Falls\, NY\, 14301\, United States
CATEGORIES:Public Presentations
END:VEVENT
BEGIN:VEVENT
DTSTART;TZID=America/New_York:20250917T140000
DTEND;TZID=America/New_York:20250917T141500
DTSTAMP:20260423T043352
CREATED:20250904T202103Z
LAST-MODIFIED:20250904T202204Z
UID:10073144-1758117600-1758118500@aquariumofniagara.org
SUMMARY:penguin presentation
DESCRIPTION:
URL:https://aquariumofniagara.org/event/penguin-presentation-2-2/2025-09-17/
LOCATION:Aquarium of Niagara: Main Building\, 701 Whirlpool St\, Niagara Falls\, NY\, 14301\, United States
CATEGORIES:Public Presentations
END:VEVENT
BEGIN:VEVENT
DTSTART;TZID=America/New_York:20250917T133000
DTEND;TZID=America/New_York:20250917T134500
DTSTAMP:20260423T043352
CREATED:20250904T204153Z
LAST-MODIFIED:20251118T222120Z
UID:10078619-1758115800-1758116700@aquariumofniagara.org
SUMMARY:featured feeding
DESCRIPTION:
URL:https://aquariumofniagara.org/event/featured-feeding-2-2/2025-09-17/
LOCATION:Aquarium of Niagara: Main Building\, 701 Whirlpool St\, Niagara Falls\, NY\, 14301\, United States
CATEGORIES:Public Presentations
END:VEVENT
BEGIN:VEVENT
DTSTART;TZID=America/New_York:20250917T130000
DTEND;TZID=America/New_York:20250917T131500
DTSTAMP:20260423T043352
CREATED:20250904T205433Z
LAST-MODIFIED:20250904T205454Z
UID:10087486-1758114000-1758114900@aquariumofniagara.org
SUMMARY:sea lion presentation
DESCRIPTION:
URL:https://aquariumofniagara.org/event/sea-lion-presentation-3/2025-09-17/
LOCATION:Aquarium of Niagara: Main Building\, 701 Whirlpool St\, Niagara Falls\, NY\, 14301\, United States
CATEGORIES:Public Presentations
END:VEVENT
BEGIN:VEVENT
DTSTART;TZID=America/New_York:20250917T120000
DTEND;TZID=America/New_York:20250917T121500
DTSTAMP:20260423T043352
CREATED:20250904T204449Z
LAST-MODIFIED:20251118T222214Z
UID:10080444-1758110400-1758111300@aquariumofniagara.org
SUMMARY:sea turtle presentation
DESCRIPTION:
URL:https://aquariumofniagara.org/event/sea-turtle-presentation-2/2025-09-17/
LOCATION:Aquarium of Niagara: Main Building\, 701 Whirlpool St\, Niagara Falls\, NY\, 14301\, United States
CATEGORIES:Public Presentations
END:VEVENT
BEGIN:VEVENT
DTSTART;TZID=America/New_York:20250917T110000
DTEND;TZID=America/New_York:20250917T111500
DTSTAMP:20260423T043352
CREATED:20250904T204720Z
LAST-MODIFIED:20250904T204750Z
UID:10082269-1758106800-1758107700@aquariumofniagara.org
SUMMARY:sea lion presentation
DESCRIPTION:
URL:https://aquariumofniagara.org/event/sea-lion-presentation-2-2-2-2/2025-09-17/
LOCATION:Aquarium of Niagara: Main Building\, 701 Whirlpool St\, Niagara Falls\, NY\, 14301\, United States
CATEGORIES:Public Presentations
END:VEVENT
BEGIN:VEVENT
DTSTART;TZID=America/New_York:20250917T100000
DTEND;TZID=America/New_York:20250917T101500
DTSTAMP:20260423T043352
CREATED:20250904T202345Z
LAST-MODIFIED:20250904T202357Z
UID:10074969-1758103200-1758104100@aquariumofniagara.org
SUMMARY:penguin presentation
DESCRIPTION:
URL:https://aquariumofniagara.org/event/penguin-presentation-2/2025-09-17/
LOCATION:Aquarium of Niagara: Main Building\, 701 Whirlpool St\, Niagara Falls\, NY\, 14301\, United States
CATEGORIES:Public Presentations
END:VEVENT
BEGIN:VEVENT
DTSTART;TZID=America/New_York:20250916T153000
DTEND;TZID=America/New_York:20250916T154500
DTSTAMP:20260423T043352
CREATED:20250904T205635Z
LAST-MODIFIED:20250904T205657Z
UID:10089326-1758036600-1758037500@aquariumofniagara.org
SUMMARY:penguin presentation
DESCRIPTION:
URL:https://aquariumofniagara.org/event/penguin-presentation-3/2025-09-16/
LOCATION:Aquarium of Niagara: Main Building\, 701 Whirlpool St\, Niagara Falls\, NY\, 14301\, United States
CATEGORIES:Public Presentations
END:VEVENT
BEGIN:VEVENT
DTSTART;TZID=America/New_York:20250916T150000
DTEND;TZID=America/New_York:20250916T151500
DTSTAMP:20260423T043352
CREATED:20250904T202726Z
LAST-MODIFIED:20250904T202910Z
UID:10076793-1758034800-1758035700@aquariumofniagara.org
SUMMARY:featured feeding
DESCRIPTION:
URL:https://aquariumofniagara.org/event/featured-feeding-3/2025-09-16/
LOCATION:Aquarium of Niagara: Main Building\, 701 Whirlpool St\, Niagara Falls\, NY\, 14301\, United States
CATEGORIES:Public Presentations
END:VEVENT
BEGIN:VEVENT
DTSTART;TZID=America/New_York:20250916T140000
DTEND;TZID=America/New_York:20250916T141500
DTSTAMP:20260423T043352
CREATED:20250904T202103Z
LAST-MODIFIED:20250904T202204Z
UID:10073143-1758031200-1758032100@aquariumofniagara.org
SUMMARY:penguin presentation
DESCRIPTION:
URL:https://aquariumofniagara.org/event/penguin-presentation-2-2/2025-09-16/
LOCATION:Aquarium of Niagara: Main Building\, 701 Whirlpool St\, Niagara Falls\, NY\, 14301\, United States
CATEGORIES:Public Presentations
END:VEVENT
BEGIN:VEVENT
DTSTART;TZID=America/New_York:20250916T133000
DTEND;TZID=America/New_York:20250916T134500
DTSTAMP:20260423T043352
CREATED:20250904T204153Z
LAST-MODIFIED:20251118T222120Z
UID:10078618-1758029400-1758030300@aquariumofniagara.org
SUMMARY:featured feeding
DESCRIPTION:
URL:https://aquariumofniagara.org/event/featured-feeding-2-2/2025-09-16/
LOCATION:Aquarium of Niagara: Main Building\, 701 Whirlpool St\, Niagara Falls\, NY\, 14301\, United States
CATEGORIES:Public Presentations
END:VEVENT
BEGIN:VEVENT
DTSTART;TZID=America/New_York:20250916T130000
DTEND;TZID=America/New_York:20250916T131500
DTSTAMP:20260423T043352
CREATED:20250904T205433Z
LAST-MODIFIED:20250904T205454Z
UID:10087485-1758027600-1758028500@aquariumofniagara.org
SUMMARY:sea lion presentation
DESCRIPTION:
URL:https://aquariumofniagara.org/event/sea-lion-presentation-3/2025-09-16/
LOCATION:Aquarium of Niagara: Main Building\, 701 Whirlpool St\, Niagara Falls\, NY\, 14301\, United States
CATEGORIES:Public Presentations
END:VEVENT
BEGIN:VEVENT
DTSTART;TZID=America/New_York:20250916T120000
DTEND;TZID=America/New_York:20250916T121500
DTSTAMP:20260423T043352
CREATED:20250904T204449Z
LAST-MODIFIED:20251118T222214Z
UID:10080443-1758024000-1758024900@aquariumofniagara.org
SUMMARY:sea turtle presentation
DESCRIPTION:
URL:https://aquariumofniagara.org/event/sea-turtle-presentation-2/2025-09-16/
LOCATION:Aquarium of Niagara: Main Building\, 701 Whirlpool St\, Niagara Falls\, NY\, 14301\, United States
CATEGORIES:Public Presentations
END:VEVENT
BEGIN:VEVENT
DTSTART;TZID=America/New_York:20250916T110000
DTEND;TZID=America/New_York:20250916T111500
DTSTAMP:20260423T043352
CREATED:20250904T204720Z
LAST-MODIFIED:20250904T204750Z
UID:10082268-1758020400-1758021300@aquariumofniagara.org
SUMMARY:sea lion presentation
DESCRIPTION:
URL:https://aquariumofniagara.org/event/sea-lion-presentation-2-2-2-2/2025-09-16/
LOCATION:Aquarium of Niagara: Main Building\, 701 Whirlpool St\, Niagara Falls\, NY\, 14301\, United States
CATEGORIES:Public Presentations
END:VEVENT
BEGIN:VEVENT
DTSTART;TZID=America/New_York:20250916T100000
DTEND;TZID=America/New_York:20250916T101500
DTSTAMP:20260423T043352
CREATED:20250904T202345Z
LAST-MODIFIED:20250904T202357Z
UID:10074968-1758016800-1758017700@aquariumofniagara.org
SUMMARY:penguin presentation
DESCRIPTION:
URL:https://aquariumofniagara.org/event/penguin-presentation-2/2025-09-16/
LOCATION:Aquarium of Niagara: Main Building\, 701 Whirlpool St\, Niagara Falls\, NY\, 14301\, United States
CATEGORIES:Public Presentations
END:VEVENT
BEGIN:VEVENT
DTSTART;TZID=America/New_York:20250915T153000
DTEND;TZID=America/New_York:20250915T154500
DTSTAMP:20260423T043352
CREATED:20250904T205245Z
LAST-MODIFIED:20250904T205245Z
UID:10085919-1757950200-1757951100@aquariumofniagara.org
SUMMARY:sea lion presentation
DESCRIPTION:
URL:https://aquariumofniagara.org/event/sea-lion-presentation-2/2025-09-15/
LOCATION:Aquarium of Niagara: Main Building\, 701 Whirlpool St\, Niagara Falls\, NY\, 14301\, United States
CATEGORIES:Public Presentations
END:VEVENT
BEGIN:VEVENT
DTSTART;TZID=America/New_York:20250915T150000
DTEND;TZID=America/New_York:20250915T151500
DTSTAMP:20260423T043352
CREATED:20250904T202726Z
LAST-MODIFIED:20250904T202910Z
UID:10076792-1757948400-1757949300@aquariumofniagara.org
SUMMARY:featured feeding
DESCRIPTION:
URL:https://aquariumofniagara.org/event/featured-feeding-3/2025-09-15/
LOCATION:Aquarium of Niagara: Main Building\, 701 Whirlpool St\, Niagara Falls\, NY\, 14301\, United States
CATEGORIES:Public Presentations
END:VEVENT
BEGIN:VEVENT
DTSTART;TZID=America/New_York:20250915T140000
DTEND;TZID=America/New_York:20250915T141500
DTSTAMP:20260423T043352
CREATED:20250904T202103Z
LAST-MODIFIED:20250904T202204Z
UID:10073142-1757944800-1757945700@aquariumofniagara.org
SUMMARY:penguin presentation
DESCRIPTION:
URL:https://aquariumofniagara.org/event/penguin-presentation-2-2/2025-09-15/
LOCATION:Aquarium of Niagara: Main Building\, 701 Whirlpool St\, Niagara Falls\, NY\, 14301\, United States
CATEGORIES:Public Presentations
END:VEVENT
BEGIN:VEVENT
DTSTART;TZID=America/New_York:20250915T133000
DTEND;TZID=America/New_York:20250915T134500
DTSTAMP:20260423T043352
CREATED:20250904T204153Z
LAST-MODIFIED:20251118T222120Z
UID:10078617-1757943000-1757943900@aquariumofniagara.org
SUMMARY:featured feeding
DESCRIPTION:
URL:https://aquariumofniagara.org/event/featured-feeding-2-2/2025-09-15/
LOCATION:Aquarium of Niagara: Main Building\, 701 Whirlpool St\, Niagara Falls\, NY\, 14301\, United States
CATEGORIES:Public Presentations
END:VEVENT
BEGIN:VEVENT
DTSTART;TZID=America/New_York:20250915T130000
DTEND;TZID=America/New_York:20250915T131500
DTSTAMP:20260423T043352
CREATED:20250904T205433Z
LAST-MODIFIED:20250904T205454Z
UID:10087484-1757941200-1757942100@aquariumofniagara.org
SUMMARY:sea lion presentation
DESCRIPTION:
URL:https://aquariumofniagara.org/event/sea-lion-presentation-3/2025-09-15/
LOCATION:Aquarium of Niagara: Main Building\, 701 Whirlpool St\, Niagara Falls\, NY\, 14301\, United States
CATEGORIES:Public Presentations
END:VEVENT
BEGIN:VEVENT
DTSTART;TZID=America/New_York:20250915T120000
DTEND;TZID=America/New_York:20250915T121500
DTSTAMP:20260423T043352
CREATED:20250904T204449Z
LAST-MODIFIED:20251118T222214Z
UID:10080442-1757937600-1757938500@aquariumofniagara.org
SUMMARY:sea turtle presentation
DESCRIPTION:
URL:https://aquariumofniagara.org/event/sea-turtle-presentation-2/2025-09-15/
LOCATION:Aquarium of Niagara: Main Building\, 701 Whirlpool St\, Niagara Falls\, NY\, 14301\, United States
CATEGORIES:Public Presentations
END:VEVENT
BEGIN:VEVENT
DTSTART;TZID=America/New_York:20250915T110000
DTEND;TZID=America/New_York:20250915T111500
DTSTAMP:20260423T043352
CREATED:20250904T204720Z
LAST-MODIFIED:20250904T204750Z
UID:10082267-1757934000-1757934900@aquariumofniagara.org
SUMMARY:sea lion presentation
DESCRIPTION:
URL:https://aquariumofniagara.org/event/sea-lion-presentation-2-2-2-2/2025-09-15/
LOCATION:Aquarium of Niagara: Main Building\, 701 Whirlpool St\, Niagara Falls\, NY\, 14301\, United States
CATEGORIES:Public Presentations
END:VEVENT
BEGIN:VEVENT
DTSTART;TZID=America/New_York:20250915T100000
DTEND;TZID=America/New_York:20250915T101500
DTSTAMP:20260423T043352
CREATED:20250904T202345Z
LAST-MODIFIED:20250904T202357Z
UID:10074967-1757930400-1757931300@aquariumofniagara.org
SUMMARY:penguin presentation
DESCRIPTION:
URL:https://aquariumofniagara.org/event/penguin-presentation-2/2025-09-15/
LOCATION:Aquarium of Niagara: Main Building\, 701 Whirlpool St\, Niagara Falls\, NY\, 14301\, United States
CATEGORIES:Public Presentations
END:VEVENT
BEGIN:VEVENT
DTSTART;TZID=America/New_York:20250914T153000
DTEND;TZID=America/New_York:20250914T154500
DTSTAMP:20260423T043352
CREATED:20250904T205245Z
LAST-MODIFIED:20250904T205245Z
UID:10085918-1757863800-1757864700@aquariumofniagara.org
SUMMARY:sea lion presentation
DESCRIPTION:
URL:https://aquariumofniagara.org/event/sea-lion-presentation-2/2025-09-14/
LOCATION:Aquarium of Niagara: Main Building\, 701 Whirlpool St\, Niagara Falls\, NY\, 14301\, United States
CATEGORIES:Public Presentations
END:VEVENT
BEGIN:VEVENT
DTSTART;TZID=America/New_York:20250914T150000
DTEND;TZID=America/New_York:20250914T151500
DTSTAMP:20260423T043352
CREATED:20250904T202726Z
LAST-MODIFIED:20250904T202910Z
UID:10076791-1757862000-1757862900@aquariumofniagara.org
SUMMARY:featured feeding
DESCRIPTION:
URL:https://aquariumofniagara.org/event/featured-feeding-3/2025-09-14/
LOCATION:Aquarium of Niagara: Main Building\, 701 Whirlpool St\, Niagara Falls\, NY\, 14301\, United States
CATEGORIES:Public Presentations
END:VEVENT
BEGIN:VEVENT
DTSTART;TZID=America/New_York:20250914T140000
DTEND;TZID=America/New_York:20250914T141500
DTSTAMP:20260423T043352
CREATED:20250904T202103Z
LAST-MODIFIED:20250904T202204Z
UID:10073141-1757858400-1757859300@aquariumofniagara.org
SUMMARY:penguin presentation
DESCRIPTION:
URL:https://aquariumofniagara.org/event/penguin-presentation-2-2/2025-09-14/
LOCATION:Aquarium of Niagara: Main Building\, 701 Whirlpool St\, Niagara Falls\, NY\, 14301\, United States
CATEGORIES:Public Presentations
END:VEVENT
BEGIN:VEVENT
DTSTART;TZID=America/New_York:20250914T133000
DTEND;TZID=America/New_York:20250914T134500
DTSTAMP:20260423T043352
CREATED:20250904T204153Z
LAST-MODIFIED:20251118T222120Z
UID:10078616-1757856600-1757857500@aquariumofniagara.org
SUMMARY:featured feeding
DESCRIPTION:
URL:https://aquariumofniagara.org/event/featured-feeding-2-2/2025-09-14/
LOCATION:Aquarium of Niagara: Main Building\, 701 Whirlpool St\, Niagara Falls\, NY\, 14301\, United States
CATEGORIES:Public Presentations
END:VEVENT
BEGIN:VEVENT
DTSTART;TZID=America/New_York:20250914T130000
DTEND;TZID=America/New_York:20250914T131500
DTSTAMP:20260423T043352
CREATED:20250904T205433Z
LAST-MODIFIED:20250904T205454Z
UID:10087483-1757854800-1757855700@aquariumofniagara.org
SUMMARY:sea lion presentation
DESCRIPTION:
URL:https://aquariumofniagara.org/event/sea-lion-presentation-3/2025-09-14/
LOCATION:Aquarium of Niagara: Main Building\, 701 Whirlpool St\, Niagara Falls\, NY\, 14301\, United States
CATEGORIES:Public Presentations
END:VEVENT
BEGIN:VEVENT
DTSTART;TZID=America/New_York:20250914T120000
DTEND;TZID=America/New_York:20250914T121500
DTSTAMP:20260423T043352
CREATED:20250904T204449Z
LAST-MODIFIED:20251118T222214Z
UID:10080441-1757851200-1757852100@aquariumofniagara.org
SUMMARY:sea turtle presentation
DESCRIPTION:
URL:https://aquariumofniagara.org/event/sea-turtle-presentation-2/2025-09-14/
LOCATION:Aquarium of Niagara: Main Building\, 701 Whirlpool St\, Niagara Falls\, NY\, 14301\, United States
CATEGORIES:Public Presentations
END:VEVENT
END:VCALENDAR